BEGIN:VCALENDAR
VERSION:2.0
PRODID:-//wp-events-plugin.com//7.2.3.1//EN
TZID:Europe/Berlin
X-WR-TIMEZONE:Europe/Berlin
BEGIN:VEVENT
UID:4886@lilabi.net
DTSTART;TZID=Europe/Berlin:20231126T130000
DTEND;TZID=Europe/Berlin:20231126T150000
DTSTAMP:20231122T122509Z
URL:https://www.lilabi.net/events/stop-geas-demo/
SUMMARY:\\"Stop GEAS\\"-Demo
DESCRIPTION:Am Sonntag\, den 26.11.23 wollen wir auf die Straße gehen\, um
  gegen die Verschärfung des allgemeinen europäischen Asylsystems zu prot
 estieren und somit unseren Wut zu zeigen. Seid auch dabei!\n\nTreffpunkt i
 st am Hauptbahnhof um 13 Uhr. Die Route endet vor dem Vorplatz am neuen Ra
 thaus\, wo eine kleine Kundgebung stattfinden wird.\n\nDie Demo findet im 
 Rahmen unseres Netzwerks statt\, was bedeutet\, dass es parallel mehrere D
 emos in Deutschland geben wird (u.a. auch in Berlin).\n\nwww.stop-geas.de
ATTACH;FMTTYPE=image/jpeg:https://www.lilabi.net/wp-content/uploads/2023/1
 1/photo_2023-11-14_11-37-57-resized-lilabi.jpg
CATEGORIES:Demo
LOCATION:Hauptbahnhof\, Bahnhofsvorplatz\, Bielefeld\, Deutschland
X-APPLE-STRUCTURED-LOCATION;VALUE=URI;X-ADDRESS=Bahnhofsvorplatz\, Bielefel
 d\, Deutschland;X-APPLE-RADIUS=100;X-TITLE=Hauptbahnhof:geo:0,0
END:VEVENT
BEGIN:VTIMEZONE
TZID:Europe/Berlin
X-LIC-LOCATION:Europe/Berlin
BEGIN:STANDARD
DTSTART:20231029T020000
TZOFFSETFROM:+0200
TZOFFSETTO:+0100
TZNAME:CET
END:STANDARD
END:VTIMEZONE
END:VCALENDAR