BEGIN:VCALENDAR
VERSION:2.0
PRODID:-//wp-events-plugin.com//7.2.3.1//EN
TZID:Europe/Berlin
X-WR-TIMEZONE:Europe/Berlin
BEGIN:VEVENT
UID:5682@lilabi.net
DTSTART;TZID=Europe/Berlin:20240628T200000
DTEND;TZID=Europe/Berlin:20240628T200000
DTSTAMP:20240529T200251Z
URL:https://www.lilabi.net/events/stay-queer-and-rebel-kneipe/
SUMMARY:Stay Queer And Rebel - Kneipe
DESCRIPTION:Stay Queer And Rebel - Kneipe\nGemeinsam wollen wir die Erfolge
  queerer Kämpfe feiern!\nWir laden queere Menschen aller Geschlechter ein
 .\nKeinen Zutritt haben Nazis\, Polizist*innen &amp\; Soldat*innen sowie M
 itarbeiter*innen von Repressionsbehörden.\nWir wünschen uns einen Raum\,
  in dem ein achtsames und ausgelassenes Miteinander möglich ist.
ATTACH;FMTTYPE=image/jpeg:https://www.lilabi.net/wp-content/uploads/2024/0
 5/flyer-vorn.png
LOCATION:AJZ Bielefeld\, Heeper Str. 132\, 33607 Bielefeld\, Deutschland
X-APPLE-STRUCTURED-LOCATION;VALUE=URI;X-ADDRESS=Heeper Str. 132\, 33607 Bie
 lefeld\, Deutschland;X-APPLE-RADIUS=100;X-TITLE=AJZ Bielefeld:geo:0,0
END:VEVENT
BEGIN:VTIMEZONE
TZID:Europe/Berlin
X-LIC-LOCATION:Europe/Berlin
BEGIN:DAYLIGHT
DTSTART:20240331T030000
TZOFFSETFROM:+0100
TZOFFSETTO:+0200
TZNAME:CEST
END:DAYLIGHT
END:VTIMEZONE
END:VCALENDAR