BEGIN:VCALENDAR
VERSION:2.0
PRODID:-//wp-events-plugin.com//7.2.3.1//EN
TZID:Europe/Berlin
X-WR-TIMEZONE:Europe/Berlin
BEGIN:VEVENT
UID:3487@lilabi.net
DTSTART;TZID=Europe/Berlin;VALUE=DATE:20210219
DTEND;TZID=Europe/Berlin;VALUE=DATE:20210222
DTSTAMP:20210216T140934Z
URL:https://www.lilabi.net/events/stadtrundgang-in-gedenken-an-den-rassist
 ischen-anschlag-in-hanau/
SUMMARY:Stadtrundgang in Gedenken an den rassistischen Anschlag in Hanau
DESCRIPTION:Am Am Freitag\, Samstag und Sonntag könnt ihr euch bei einem S
 tadtrundgang an 9 verschiedenen Stationen über den rassistischen Anschlag
  in Hanau\, Hintergründe und rassistische Kontinuitäten informieren.\nWe
 rft einen Blick auf die Karte!\nWir sehen uns auf den Straßen
ATTACH;FMTTYPE=image/jpeg:https://www.lilabi.net/wp-content/uploads/2021/0
 2/karte-stadtrundgang.png
CATEGORIES:Führung/Rundgang
END:VEVENT
BEGIN:VTIMEZONE
TZID:Europe/Berlin
X-LIC-LOCATION:Europe/Berlin
BEGIN:STANDARD
DTSTART:20201025T020000
TZOFFSETFROM:+0200
TZOFFSETTO:+0100
TZNAME:CET
END:STANDARD
END:VTIMEZONE
END:VCALENDAR