BEGIN:VCALENDAR
VERSION:2.0
PRODID:-//wp-events-plugin.com//7.2.3.1//EN
TZID:Europe/Berlin
X-WR-TIMEZONE:Europe/Berlin
BEGIN:VEVENT
UID:4876@lilabi.net
DTSTART;TZID=Europe/Berlin:20231119T140000
DTEND;TZID=Europe/Berlin:20231119T160000
DTSTAMP:20231101T163407Z
URL:https://www.lilabi.net/events/stadtrundgang-eine-bielefelderin-gegen-d
 en-ns/
SUMMARY:Stadtrundgang „Eine Bielefelderin gegen den NS“
DESCRIPTION:"Wir versuchen\, etwas für den Frieden und die Entspannung zu 
 tun und treten gegen alle faschistischen Tendenzen ein“\, so beschrieb M
 arie Luise (Lieschen) Hartmann ihre Arbeit in der "Vereinigung für die Ve
 rfolgten des Naziregimes" (VVN). Dort war sie von 1947 bis in die 1990er J
 ahre aktiv. Während der Zeit des Nationalsozialismus war sie eine von wen
 igen Menschen\, die gegen die Nationalsozialist:innen in Bielefeld Widerst
 and leisteten. Bei dem Stadtrundgang begeben wir uns auf ihre Spuren und f
 ragen danach\, wie es dazu kam\, dass Lieschen sich den Nazis entgegenstel
 lte\, was sie genau tat und warum sie ihr Leben lang für eine bessere Ges
 ellschaft kämpfte.\n\nEine Veranstaltung der Antinationalen Linken Bielef
 eld (ALIBI)
ATTACH;FMTTYPE=image/jpeg:https://www.lilabi.net/wp-content/uploads/2023/1
 1/hartmannrundgang.jpg
CATEGORIES:Führung/Rundgang
LOCATION:Bückardtschule\, Heeper Straße 50 \, Bielefeld\, NRW\, 33607\, D
 eutschland
X-APPLE-STRUCTURED-LOCATION;VALUE=URI;X-ADDRESS=Heeper Straße 50 \, Bielef
 eld\, NRW\, 33607\, Deutschland;X-APPLE-RADIUS=100;X-TITLE=Bückardtschule
 :geo:0,0
END:VEVENT
BEGIN:VTIMEZONE
TZID:Europe/Berlin
X-LIC-LOCATION:Europe/Berlin
BEGIN:STANDARD
DTSTART:20231029T020000
TZOFFSETFROM:+0200
TZOFFSETTO:+0100
TZNAME:CET
END:STANDARD
END:VTIMEZONE
END:VCALENDAR