BEGIN:VCALENDAR
VERSION:2.0
PRODID:-//wp-events-plugin.com//7.2.3.1//EN
TZID:Europe/Berlin
X-WR-TIMEZONE:Europe/Berlin
BEGIN:VEVENT
UID:5635@lilabi.net
DTSTART;TZID=Europe/Berlin:20240627T170000
DTEND;TZID=Europe/Berlin:20240627T190000
DTSTAMP:20240424T143304Z
URL:https://www.lilabi.net/events/stadtfuehrung-koloniale-spuren-in-bielef
 eld-7/
SUMMARY:Stadtführung: Koloniale Spuren in Bielefeld
DESCRIPTION:Auch Bielefeld hat eine koloniale Vergangenheit: Kaufleute hand
 elten schon vor Beginn der Kolonialzeit in Übersee. Andere zogen als Sied
 ler\, Missionare oder Soldaten in die deutschen Kolonien. Die Stadtführun
 g lädt ein\, sich mit Kolonialismus als Teil der Bielefelder Geschichte k
 ritisch auseinanderzusetzen und schlägt einen Bogen zu kolonialen Kontinu
 itäten heute.\n\nBegleitet wird der Rundgang von Dr. Barbara Frey.\nDie T
 eilnehmer*innenzahl ist begrenzt\, deswegen ist eine Anmeldung erforderlic
 h unter: bi-postkolonial@welthaus.de 
ATTACH;FMTTYPE=image/jpeg:https://www.lilabi.net/wp-content/uploads/2024/0
 4/Koloniale_Spuren_Stadtfuehrung-1.jpg
CATEGORIES:Austausch/Vernetzung,Führung/Rundgang,Infoveranstaltung,Sonsti
 ges
LOCATION:Treffpunkt: Altes Rathaus\, Niederwall 27\, Bielefeld\, Deutschlan
 d
X-APPLE-STRUCTURED-LOCATION;VALUE=URI;X-ADDRESS=Niederwall 27\, Bielefeld\,
  Deutschland;X-APPLE-RADIUS=100;X-TITLE=Treffpunkt: Altes Rathaus:geo:0,0
END:VEVENT
BEGIN:VTIMEZONE
TZID:Europe/Berlin
X-LIC-LOCATION:Europe/Berlin
BEGIN:DAYLIGHT
DTSTART:20240331T030000
TZOFFSETFROM:+0100
TZOFFSETTO:+0200
TZNAME:CEST
END:DAYLIGHT
END:VTIMEZONE
END:VCALENDAR