BEGIN:VCALENDAR
VERSION:2.0
PRODID:-//wp-events-plugin.com//7.2.3.1//EN
TZID:Europe/Berlin
X-WR-TIMEZONE:Europe/Berlin
BEGIN:VEVENT
UID:4730@lilabi.net
DTSTART;TZID=Europe/Berlin:20230516T170000
DTEND;TZID=Europe/Berlin:20230516T190000
DTSTAMP:20230502T113833Z
URL:https://www.lilabi.net/events/stadtfuehrung-koloniale-spuren-in-bielef
 eld-5/
SUMMARY:Stadtführung: Koloniale Spuren in Bielefeld
DESCRIPTION:Was verbindet eine Stadt wie Bielefeld\, weitab vom Meer\, mit 
 dem deutschen Kolonialismus? Spätestens seit dem 18. Jahrhundert waren Bi
 elefelder Kaufleute im Überseehandel tätig. Menschen wanderten in die Ko
 lonien aus und waren dort als Farmer\, Missionare oder Soldaten tätig. Au
 f dem Johannisberg wurden Kolonialfeste gefeiert. Die Stadtführung „Kol
 oniale Spuren in Bielefeld“ lädt ein\, sich mit der Geschichte des Kolo
 nialismus als Teil der Bielefelder Geschichte kritisch auseinander zu setz
 en und schlägt einen Bogen zu kolonialen Kontinuitäten heute. Begleitet 
 wird der Rundgang von Dr. Barbara Frey.\n\nBegrenzte Teilnehmendenzahl\, A
 nmeldung bitte über: bi-postkolonial@welthaus.de\n\nDer Treffpunkt wird n
 ach erfolgreicher Anmeldung bekannt gegeben.\n\nEintritt frei\, um eine Sp
 ende wird gebeten.
ATTACH;FMTTYPE=image/jpeg:https://www.lilabi.net/wp-content/uploads/2023/0
 5/Stadtfuehrung-Koloniale-Spuren-in-Bielefeld-16.5.-neu-in-klein.png
END:VEVENT
BEGIN:VTIMEZONE
TZID:Europe/Berlin
X-LIC-LOCATION:Europe/Berlin
BEGIN:DAYLIGHT
DTSTART:20230326T030000
TZOFFSETFROM:+0100
TZOFFSETTO:+0200
TZNAME:CEST
END:DAYLIGHT
END:VTIMEZONE
END:VCALENDAR