BEGIN:VCALENDAR
VERSION:2.0
PRODID:-//wp-events-plugin.com//7.2.3.1//EN
TZID:Europe/Berlin
X-WR-TIMEZONE:Europe/Berlin
BEGIN:VEVENT
UID:4401@lilabi.net
DTSTART;TZID=Europe/Berlin:20221020T170000
DTEND;TZID=Europe/Berlin:20221020T190000
DTSTAMP:20220907T143602Z
URL:https://www.lilabi.net/events/stadtfuehrung-koloniale-spuren-2/
SUMMARY:Stadtführung Koloniale Spuren
DESCRIPTION:Was verbindet eine Stadt wie Bielefeld\, weitab vom Meer\, mit 
 dem deutschen Kolonialismus?\nDie Stadtführung „Koloniale Denkmäler in
  Bielefeld“ gibt Antworten darauf und lädt ein\, sich mit der Geschicht
 e des Kolonialismus als Teil der Bielefelder Geschichte kritisch auseinand
 er zu setzen und schlägt einen Bogen zu kolonialen Kontinuitäten heute.\
 n\nWann: Donnerstag\, 20.10.2022 17 bis 19 Uhr\nTreffpunkt: Altes Rathaus\
 nEndpunkt: Süsterkirche\n\nDer Rundgang wird von Dr. Barbara Frey begleit
 et.\nDa die Teilnehmendenzahl begrenzt ist\, bitten wir um eine Anmeldung 
 unter: bi-postkolonial@welthaus.de\n\nDie Teilnahme ist kostenlos\, um ein
 e Spende wird gebeten.\nWir freuen uns auf euch!
ATTACH;FMTTYPE=image/jpeg:https://www.lilabi.net/wp-content/uploads/2022/0
 9/P1130570-Kopie-1.jpg
CATEGORIES:Führung/Rundgang
LOCATION:Altes Rathaus\, Niederwall 27\, 33602 Bielefeld\, Deutschland
X-APPLE-STRUCTURED-LOCATION;VALUE=URI;X-ADDRESS=Niederwall 27\, 33602 Biele
 feld\, Deutschland;X-APPLE-RADIUS=100;X-TITLE=Altes Rathaus:geo:0,0
END:VEVENT
BEGIN:VTIMEZONE
TZID:Europe/Berlin
X-LIC-LOCATION:Europe/Berlin
BEGIN:DAYLIGHT
DTSTART:20220327T030000
TZOFFSETFROM:+0100
TZOFFSETTO:+0200
TZNAME:CEST
END:DAYLIGHT
END:VTIMEZONE
END:VCALENDAR