BEGIN:VCALENDAR
VERSION:2.0
PRODID:-//wp-events-plugin.com//7.2.3.1//EN
TZID:Europe/Berlin
X-WR-TIMEZONE:Europe/Berlin
BEGIN:VEVENT
UID:3553@lilabi.net
DTSTART;TZID=Europe/Berlin:20210923T170000
DTEND;TZID=Europe/Berlin:20210923T193000
DTSTAMP:20210907T164635Z
URL:https://www.lilabi.net/events/stadtfuehrung-koloniale-denkmaeler-in-bi
 elefeld-2/
SUMMARY:Stadtführung: koloniale Denkmäler in Bielefeld
DESCRIPTION:Auch in Bielefeld sind Denkmäler erhalten\, die von Versklavun
 gshandel und Kolonialismus erzählen. Die Stadtführung von der Sparrenbur
 g bis zur Süsterkirche thematisiert die kolonialen Verstrickungen der gee
 hrten Personen und diskutiert den Umgang mit diesen Denkmälern heute.\n\n
 Begleitet wird der Rundgang von Dr. Barbara Frey.\n\n&nbsp\;\n\nWann? Mi.\
 , 23.09.2021\, 17 Uhr\n\nDauer: circa 2 bis 2 ½ Stunden\n\nTreffpunkt: In
 nenhof der Sparrenburg am Denkmal des Großen Kurfürsten\;\n\nEndpunkt: S
 üsterkirche\n\n&nbsp\;\n\n&nbsp\;\n\nBegrenzte Teilnehmerzahl – Anmeldu
 ng erforderlich unter bi-postkolonial@welthaus.de\n\nEs gilt die 3G-Regel.
 \n\n&nbsp\;\n\nDie Teilnahme ist kostenlos. Eine kleine Spende für das We
 lthaus Bielefeld ist erwünscht.
CATEGORIES:Führung/Rundgang
LOCATION:\, \, 
X-APPLE-STRUCTURED-LOCATION;VALUE=URI;X-ADDRESS=\, ;X-APPLE-RADIUS=100;X-TI
 TLE=:geo:0,0
END:VEVENT
BEGIN:VTIMEZONE
TZID:Europe/Berlin
X-LIC-LOCATION:Europe/Berlin
BEGIN:DAYLIGHT
DTSTART:20210328T030000
TZOFFSETFROM:+0100
TZOFFSETTO:+0200
TZNAME:CEST
END:DAYLIGHT
END:VTIMEZONE
END:VCALENDAR