BEGIN:VCALENDAR
VERSION:2.0
PRODID:-//wp-events-plugin.com//7.2.3.1//EN
TZID:Europe/Berlin
X-WR-TIMEZONE:Europe/Berlin
BEGIN:VEVENT
UID:5608@lilabi.net
DTSTART;TZID=Europe/Berlin:20240418T190000
DTEND;TZID=Europe/Berlin:20240418T213000
DTSTAMP:20240403T114623Z
URL:https://www.lilabi.net/events/spielfim-min-dit-die-kinder-von-diyarbak
 ir-omu/
SUMMARY:Spielfim: Min Dit - Die Kinder von Diyarbakir (OmU)
DESCRIPTION:Seebrücke\, DIDF und die Initiative für Frieden und Hoffnung 
 in Kurdistan laden ein:\n\nMin Dit - Die Kinder von Diyarbakir (kurdisch m
 it deutschen Untertiteln)\n\n 	 April 2024\, 19 Uhr\, Kamera (Feilenstrass
 e 4\, Bielefeld)\n\nEintritt frei (Spende)\n\nAnschließend findet ein Ges
 präch mit dem Regisseur statt\n\nMut\, Zusammenhalt\, Widerstand auf der 
 einen und Mord\, Folter und Flucht auf der anderen Seite - das sind die gr
 oßen Themen aus Sicht von zwei kurdischen Kindern. Min Dit - zu deutsch: 
 "Vor meinen Augen"- lautet der Titel dieses ersten langen Spielfilms von M
 iraz Bezar aus dem Jahr 2009. Die preisgekrönte Verfilmung\, die in Deuts
 chland unter dem Titel "Die Kinder von Diyarbakir" erschien\, handelt von 
 der Geschichte der zehnjährigen Gulistan und ihrem jüngeren Bruder Firat
 . Dieses Geschwisterpaar\, dessen Eltern von der türkischen Staatssicherh
 eit ermordet werden\, kämpft zuammen mit anderen Straßenkindern um das 
 Überleben in Amed/Diyarbakir in Nordkurdistan/Südosttürkei. Ein zentral
 es Motiv des Filmes ist das Märchen vom Wolf mit der Glocke\, das einer d
 er bekanntesten zeitgenössischen kurdischen Schriftsteller der Türkei\, 
 Yaşar Kemal\, überliefert hat.\n\nDer Film entstand in Amed (kurd.)/ Diy
 arbakir (türk.)\, wo er auch spielt. Die Stadt ist mit dem Krieg in den D
 örfern und der Flucht der kurdischen Bevölkerung zu einer Millionenmetro
 pole angewachsen\, in der auch Kinder und Jugendliche ohne Familien ums Ü
 berleben kämpfen müssen.\n\nWährend des Krieges des türkischen Staate
 s gegen die Kurden in den 1990er Jahren wurden 4000 kurdische Dörfer - vo
 rnehmlich mit deutschen Waffen - zerstört und die Bevölkerung floh zu Ta
 usenden vom Land. Die staatliche Gewalt gegen politisch unliebsame Persone
 n\, führte zu über 18.000  kurdischen und türkischen Menschen\, die er
 mordet wurden oder spurlos verschwanden.\n\nMIN DÎT ist ein Versuch\, die
 se Zeit in Erinnerung zu behalten und zugleich auch ein zeitloses Dokument
  zu staatlicher Gewalt.\n\nEs ist der erste Film in dem die Charaktere ihr
 e eigene Sprache Kurdisch sprechen.\n\nMiraz Bezar ist ein kurdischer Regi
 sseur. Er wurde 1971 in Ankara geboren\, immigrierte 1980 mit seiner Famil
 ie nach Deutschland\, studierte Kulturwissenschaft an der Berliner Humbold
 t Universität und Regie an der Berliner Film- und Fernsehakademie.\n\n&nb
 sp\;\n\n&nbsp\;
LOCATION:Kamera Filmkunsttheater\, Feilenstraße 4\, Bielefeld\, Deutschlan
 d
X-APPLE-STRUCTURED-LOCATION;VALUE=URI;X-ADDRESS=Feilenstraße 4\, Bielefeld
 \, Deutschland;X-APPLE-RADIUS=100;X-TITLE=Kamera Filmkunsttheater:geo:0,0
END:VEVENT
BEGIN:VTIMEZONE
TZID:Europe/Berlin
X-LIC-LOCATION:Europe/Berlin
BEGIN:DAYLIGHT
DTSTART:20240331T030000
TZOFFSETFROM:+0100
TZOFFSETTO:+0200
TZNAME:CEST
END:DAYLIGHT
END:VTIMEZONE
END:VCALENDAR