BEGIN:VCALENDAR
VERSION:2.0
PRODID:-//wp-events-plugin.com//7.2.3.1//EN
TZID:Europe/Berlin
X-WR-TIMEZONE:Europe/Berlin
BEGIN:VEVENT
UID:3701@lilabi.net
DTSTART;TZID=Europe/Berlin:20220410T150000
DTEND;TZID=Europe/Berlin:20220410T180000
DTSTAMP:20220323T133626Z
URL:https://www.lilabi.net/events/spielen-nachmittag-und-offene-bibliothek
 /
SUMMARY:Spielen Nachmittag und Offene Bibliothek
DESCRIPTION:Gemeinsam Kaffee trinken\, Kekse essen\, spielen oder in der Bi
 bliothek gute Bücher lesen.
LOCATION:FAU-Lokal\, Metzer Straße 20\, Bielefeld\, Deutschland
X-APPLE-STRUCTURED-LOCATION;VALUE=URI;X-ADDRESS=Metzer Straße 20\, Bielefe
 ld\, Deutschland;X-APPLE-RADIUS=100;X-TITLE=FAU-Lokal:geo:0,0
END:VEVENT
BEGIN:VTIMEZONE
TZID:Europe/Berlin
X-LIC-LOCATION:Europe/Berlin
BEGIN:DAYLIGHT
DTSTART:20220327T030000
TZOFFSETFROM:+0100
TZOFFSETTO:+0200
TZNAME:CEST
END:DAYLIGHT
END:VTIMEZONE
END:VCALENDAR