BEGIN:VCALENDAR
VERSION:2.0
PRODID:-//wp-events-plugin.com//7.2.3.1//EN
TZID:Europe/Berlin
X-WR-TIMEZONE:Europe/Berlin
BEGIN:VEVENT
UID:4946@lilabi.net
DTSTART;TZID=Europe/Berlin:20240209T190000
DTEND;TZID=Europe/Berlin:20240209T235900
DTSTAMP:20240208T172310Z
URL:https://www.lilabi.net/events/spendenkneipe-duenne-decke/
SUMMARY:Spendenkneipe "Dünne Decke"
DESCRIPTION:
CATEGORIES:Kneipe
LOCATION:Planet 42\, Hakenort 42\, Bielefeld\, Nordrhein-Westfalen\, 33609 
 \, Deutschland
X-APPLE-STRUCTURED-LOCATION;VALUE=URI;X-ADDRESS=Hakenort 42\, Bielefeld\, N
 ordrhein-Westfalen\, 33609 \, Deutschland;X-APPLE-RADIUS=100;X-TITLE=Plane
 t 42:geo:0,0
END:VEVENT
BEGIN:VTIMEZONE
TZID:Europe/Berlin
X-LIC-LOCATION:Europe/Berlin
BEGIN:STANDARD
DTSTART:20231029T020000
TZOFFSETFROM:+0200
TZOFFSETTO:+0100
TZNAME:CET
END:STANDARD
END:VTIMEZONE
END:VCALENDAR