BEGIN:VCALENDAR
VERSION:2.0
PRODID:-//wp-events-plugin.com//7.2.3.1//EN
TZID:Europe/Berlin
X-WR-TIMEZONE:Europe/Berlin
BEGIN:VEVENT
UID:6178@lilabi.net
DTSTART;TZID=Europe/Berlin:20250520T190000
DTEND;TZID=Europe/Berlin:20250520T210000
DTSTAMP:20250519T133221Z
URL:https://www.lilabi.net/events/sozialistisches-forum-arbeit-reichtum-im
 -kapitalismus/
SUMMARY:Sozialistisches Forum - Arbeit &amp\; Reichtum im Kapitalismus
DESCRIPTION:Nachbesprechung des Vortrages "Unvernünftig\, unverbesserlich
 : Arbeit &amp\; Reichtum im Kapitalismus".\n\n(Gehalten  am 15.05 im Rahm
 en des linken Semesterstarts)
CATEGORIES:Diskussion,Lesekreis
LOCATION:Grüner Würfel\, Bistro Keimzeit im Erdgeschoss\, Kesselbrink 2\,
  33602 Bielefeld\, Bielefeld\, Deutschland
X-APPLE-STRUCTURED-LOCATION;VALUE=URI;X-ADDRESS=Kesselbrink 2\, 33602 Biele
 feld\, Bielefeld\, Deutschland;X-APPLE-RADIUS=100;X-TITLE=Grüner Würfel\
 , Bistro Keimzeit im Erdgeschoss:geo:0,0
END:VEVENT
BEGIN:VTIMEZONE
TZID:Europe/Berlin
X-LIC-LOCATION:Europe/Berlin
BEGIN:DAYLIGHT
DTSTART:20250330T030000
TZOFFSETFROM:+0100
TZOFFSETTO:+0200
TZNAME:CEST
END:DAYLIGHT
END:VTIMEZONE
END:VCALENDAR