BEGIN:VCALENDAR
VERSION:2.0
PRODID:-//wp-events-plugin.com//7.2.3.1//EN
TZID:Europe/Berlin
X-WR-TIMEZONE:Europe/Berlin
BEGIN:VEVENT
UID:4382@lilabi.net
DTSTART;TZID=Europe/Berlin:20220814T160000
DTEND;TZID=Europe/Berlin:20220814T200000
DTSTAMP:20220809T140825Z
URL:https://www.lilabi.net/events/sommerfest-der-roten-hilfe-bielefeld/
SUMMARY:Sommerfest der Roten Hilfe Bielefeld
DESCRIPTION:nach zweijähriger Pause laden wir wieder ein zum Sommerfest de
 r Roten Hilfe Bielefeld.\n\nStrahlender Sonnenschein\, Kaffee und Kuchen\,
  gute Gespräche\, Infos\, die bekannte schöne Atmosphäre. Bei guten Wet
 terbedingungen nutzen wir ab 16:00 Uhr (ausnahmsweise) den Garten der Bür
 ger:innenwache.\n\nEngagierte Musik gibt es von der Bielefelder Gruppe Rot
 er Faden.\n\nKuchenspenden sind gern gesehen.
CATEGORIES:Soli
LOCATION:Bürger*innenwache Siegfriedplatz\, Rolandstr. 16\, 33615 Bielefel
 d\, Deutschland
X-APPLE-STRUCTURED-LOCATION;VALUE=URI;X-ADDRESS=Rolandstr. 16\, 33615 Biele
 feld\, Deutschland;X-APPLE-RADIUS=100;X-TITLE=Bürger*innenwache Siegfried
 platz:geo:0,0
END:VEVENT
BEGIN:VTIMEZONE
TZID:Europe/Berlin
X-LIC-LOCATION:Europe/Berlin
BEGIN:DAYLIGHT
DTSTART:20220327T030000
TZOFFSETFROM:+0100
TZOFFSETTO:+0200
TZNAME:CEST
END:DAYLIGHT
END:VTIMEZONE
END:VCALENDAR