BEGIN:VCALENDAR
VERSION:2.0
PRODID:-//wp-events-plugin.com//7.2.3.1//EN
TZID:Europe/Berlin
X-WR-TIMEZONE:Europe/Berlin
BEGIN:VEVENT
UID:4363@lilabi.net
DTSTART;TZID=Europe/Berlin:20220817T190000
DTEND;TZID=Europe/Berlin:20220817T210000
DTSTAMP:20220718T134520Z
URL:https://www.lilabi.net/events/soliveranstaltung-antifa-ost-prozess/
SUMMARY:Soliveranstaltung Antifa-Ost Prozess
DESCRIPTION:Mittwoch\, 17.08.22\, 19 Uhr\, Innenhof\, AJZ Bielefeld\nHeeper
  Straße 132\, BielefeldSeit September 2021 sind Lina und weitere Personen
  vor dem OLG Dresden angeklagt. Ihnen wird die Gründung einer kriminellen
  Vereinigung nach §129 vorgeworfen. Mit dem Vortrag soll ein Überblick 
 über den aktuellen Stand der Verhandlung gegeben\, etwas tiefer in das Th
 ema solidarische Prozessbegleitung eingestiegen und der grösste Prozess d
 er seit 10 Jahren gegen Antifaschist*innen geführt wird\, kritisch hinter
 fragt werden.Triggerwarnung\;  Es wird in dem Vortrag auch das Thema sexu
 alisierte Gewalt angesprochen werden.Bitte kommt getestet!\n\nveranstaltet
  von Akzent_in\nhttps://akzentin.noblogs.org/\n\n
ATTACH;FMTTYPE=image/jpeg:https://www.lilabi.net/wp-content/uploads/2022/0
 7/Kasselklein.jpg
CATEGORIES:Vortrag
LOCATION:AJZ Bielefeld\, Heeper Str. 132\, 33607 Bielefeld\, Deutschland
X-APPLE-STRUCTURED-LOCATION;VALUE=URI;X-ADDRESS=Heeper Str. 132\, 33607 Bie
 lefeld\, Deutschland;X-APPLE-RADIUS=100;X-TITLE=AJZ Bielefeld:geo:0,0
END:VEVENT
BEGIN:VTIMEZONE
TZID:Europe/Berlin
X-LIC-LOCATION:Europe/Berlin
BEGIN:DAYLIGHT
DTSTART:20220327T030000
TZOFFSETFROM:+0100
TZOFFSETTO:+0200
TZNAME:CEST
END:DAYLIGHT
END:VTIMEZONE
END:VCALENDAR