BEGIN:VCALENDAR
VERSION:2.0
PRODID:-//wp-events-plugin.com//7.2.3.1//EN
TZID:Europe/Berlin
X-WR-TIMEZONE:Europe/Berlin
BEGIN:VEVENT
UID:3657@lilabi.net
DTSTART;TZID=Europe/Berlin:20211210T180000
DTEND;TZID=Europe/Berlin:20211210T203000
DTSTAMP:20211130T095213Z
URL:https://www.lilabi.net/events/solidaritaet-statt-grenzschutz-gruenes-l
 icht-fuer-aufnahme/
SUMMARY:Solidarität statt Grenzschutz! Grünes Licht für Aufnahme.
DESCRIPTION:Seit Wochen ist die Situation an der polnisch-belarussischen Gr
 enze unerträglich. Menschen\, die über Belarus versuchen in die EU zu fl
 iehen\, werden systematisch aus Polen zurück in eine militärisch abgerie
 gelte Pufferzone gedrängt und dort festgehalten. Sie sind schutzlos der N
 ässe und Kälte des urwaldlichen Moorgebietes ausgeliefert. Mindestens 17
  Menschen sind in dieser unhaltbaren Situation bereits gestorben\, teils n
 ach gewaltsamen PushBacks oder Wasserwerfereinsätzen von polnischen Grenz
 soldat*innen. Auch in Polen gibt es Menschen\, die den Menschen gegen das 
 Grenzregime beistehen wollen – sie machen sich mit ihrer Hilfe allerding
 s strafbar.\n\nWieder einmal werden geflüchtete Menschen für politische 
 Zwecke intrumentalisiert – dieses Mal vom belarussischen Autokraten Luka
 schenko. Aus Rache für die ihm auferlegten Sanktionen macht er die geflü
 chteten Menschen zum Druckmittel\, in dem er einerseits mit ihrer Weiterle
 itung Richtung EU-Länder droht und sie andererseits ihrem Elend in den W
 äldern und in den Behelfunterkünften überlässt. Aber auch das polnisch
 e Parlament hat für die Legalisierung von PushBacks gestimmt und will den
  Rechtsstaat weiter aushöhlen: Asylanträge können in Zukunft „ungepr
 üft“ abgelehnt werden.\n\nErpressbar ist die EU jedoch nur\, weil sie s
 elbst auf Abschottung statt auf solidarische Aufnahme setzt. Sie schließt
  ihre Grenzen\, baut immer neue Mauern und Stacheldrahtzäune und blockier
 t den Zugang zu einem Recht auf Asyl. In Deutschland fordern Innenminister
  Seehofer und die Bundespolizeigewerkschaft Grenzkontrollen und Patrouille
 n an der deutsch-polnischen Grenze und machen damit den Weg für faschisti
 sche Aufmärsche in den Grenzgebieten frei. \n\nZwar wird Polen scheinheil
 ig zur Achtung des Rechtsrahmens ermahnt\, gleichzeitig wird aber unterst
 ützt und erwartet\, dass es seine Grenze dicht hält – gegen die schutz
 suchenden Menschen! Abschottung um jeden Preis lautet das Motto.\n\nMitten
  in Europa werden Grenzzäune gegen Menschen auf der Flucht errichtet und 
 wir dürfen nicht wegschauen. Wir stellen uns dieser rechten Stimmungsmach
 e und der Gewaltrhetorik entschlossen entgegen! Unsere Solidarität und un
 ser Handeln sind jetzt gefragt. Wir sagen: Aufnahme jetzt!\n\nDeshalb rufe
 n wir als Seebrücke Bielefeld für Freitag\, den 10.12.2021 zu einer Kund
 gebung und Demonstration mit anschließender Gedenkveranstaltung und Mahnw
 ache auf.\nStart der Demonstration: 18 Uhr\, Vorplatz des Hauptbahnhofes B
 ielefeld.\nGedenkveranstaltung: Ab ca. 19 Uhr am alten Rathaus.\nIm Anschl
 uss: Start unserer Mahnwache vor dem alten Rathaus\, um auf geflüchtete M
 enschen an Europas Außengrenzen aufmerksam zu machen.\n\nSeid dabei und s
 eid mit uns laut um zu zeigen\, dass wir diese menschenfeindliche Abschott
 ung nicht tolerieren. Bringt in jeglicher Form grüne Lichter mit als Zeic
 hen dafür\, dass wir die sofortige Aufnahme schutzsuchender Menschen ford
 ern (z.B. beklebte Gläser mit Teelichtern\, Taschenlampen mit Transparent
 papier\, Knicklichter\, etc.). Beklebt auch gerne eure Fenster zu Hause gr
 ün und fordert grünes Licht für Aufnahme.
CATEGORIES:Demo
LOCATION:\, \, 
X-APPLE-STRUCTURED-LOCATION;VALUE=URI;X-ADDRESS=\, ;X-APPLE-RADIUS=100;X-TI
 TLE=:geo:0,0
END:VEVENT
BEGIN:VTIMEZONE
TZID:Europe/Berlin
X-LIC-LOCATION:Europe/Berlin
BEGIN:STANDARD
DTSTART:20211031T020000
TZOFFSETFROM:+0200
TZOFFSETTO:+0100
TZNAME:CET
END:STANDARD
END:VTIMEZONE
END:VCALENDAR