BEGIN:VCALENDAR
VERSION:2.0
PRODID:-//wp-events-plugin.com//7.2.3.1//EN
TZID:Europe/Berlin
X-WR-TIMEZONE:Europe/Berlin
BEGIN:VEVENT
UID:4442@lilabi.net
DTSTART;TZID=Europe/Berlin:20221014T180000
DTEND;TZID=Europe/Berlin:20221014T200000
DTSTAMP:20221011T112516Z
URL:https://www.lilabi.net/events/solidaritaet-mit-den-protesten-im-iran/
SUMMARY:Solidarität mit den Protesten im Iran!
DESCRIPTION:Liebe Alle\,\nam 14. Oktober findet um 18 Uhr am HBF Bielefeld 
 eine Demonstration in Solidarität mit den Protesten im Iran und in Ost-Ku
 rdistan statt.\nEigene Transpis und Fahnen sind erwünscht. Gerne weitersa
 gen!
ATTACH;FMTTYPE=image/jpeg:https://www.lilabi.net/wp-content/uploads/2022/1
 0/image_6487327.jpg
LOCATION:Hauptbahnhof\, Bahnhofsvorplatz\, Bielefeld\, Deutschland
X-APPLE-STRUCTURED-LOCATION;VALUE=URI;X-ADDRESS=Bahnhofsvorplatz\, Bielefel
 d\, Deutschland;X-APPLE-RADIUS=100;X-TITLE=Hauptbahnhof:geo:0,0
END:VEVENT
BEGIN:VTIMEZONE
TZID:Europe/Berlin
X-LIC-LOCATION:Europe/Berlin
BEGIN:DAYLIGHT
DTSTART:20220327T030000
TZOFFSETFROM:+0100
TZOFFSETTO:+0200
TZNAME:CEST
END:DAYLIGHT
END:VTIMEZONE
END:VCALENDAR