BEGIN:VCALENDAR
VERSION:2.0
PRODID:-//wp-events-plugin.com//7.2.3.1//EN
TZID:Europe/Berlin
X-WR-TIMEZONE:Europe/Berlin
BEGIN:VEVENT
UID:3694@lilabi.net
DTSTART;TZID=Europe/Berlin:20220326T160000
DTEND;TZID=Europe/Berlin:20220326T170000
DTSTAMP:20220307T114115Z
URL:https://www.lilabi.net/events/solidarische-aus-der-pandemie-bildungsge
 rechtigkeit-jetzt/
SUMMARY:Solidarische aus der Pandemie - Bildungsgerechtigkeit jetzt
DESCRIPTION:Teil der Veranstaltungsreihe "Solidarisch aus der Pandmie"\n\nD
 urch die Pandemie wurden die massiven Ungerechtigkeiten im Bildungssystem 
 weiter verstärkt. Dies trifft vor allem Schüler:innen\, denen es an Comp
 utern\, Unterstützung und Freiräumen zum Lernen fehlt. Kinder aus Famili
 en mit wenig Geld bleiben dadurch oft auf der Strecke. Dies wird durch den
  selektiven Leistungswahn verschärft\, indem ausgesiebt statt gefördert 
 wird. Wir fordern: Mehr Lehrpersonal\, kleinere Klassen\, Noten Abschaffen
 . Bildungsgerechtigkeit jetzt!
CATEGORIES:Kundgebung
LOCATION:Alter Markt\, Bielefeld\, Alter Markt\, Bielefeld\, 33602\, Deutsc
 hland
X-APPLE-STRUCTURED-LOCATION;VALUE=URI;X-ADDRESS=Alter Markt\, Bielefeld\, 3
 3602\, Deutschland;X-APPLE-RADIUS=100;X-TITLE=Alter Markt\, Bielefeld:geo:
 0,0
END:VEVENT
BEGIN:VTIMEZONE
TZID:Europe/Berlin
X-LIC-LOCATION:Europe/Berlin
BEGIN:STANDARD
DTSTART:20211031T020000
TZOFFSETFROM:+0200
TZOFFSETTO:+0100
TZNAME:CET
END:STANDARD
END:VTIMEZONE
END:VCALENDAR