BEGIN:VCALENDAR
VERSION:2.0
PRODID:-//wp-events-plugin.com//7.2.3.1//EN
TZID:Europe/Berlin
X-WR-TIMEZONE:Europe/Berlin
BEGIN:VEVENT
UID:5629@lilabi.net
DTSTART;TZID=Europe/Berlin:20240424T180000
DTEND;TZID=Europe/Berlin:20240424T180000
DTSTAMP:20240423T125320Z
URL:https://www.lilabi.net/events/soli-kuefa/
SUMMARY:SOLI-KÜFA
DESCRIPTION:Essen!\n\nNach „Correktiv“ Recherchen sind bundesweit Milli
 onen Menschen auf die Straßen gegangen\, um gegen Nazis und rassistische 
 Politik zu demonstrieren. Aufgerufen hatten zu diesen Demonstrationen auch
  bürgerliche Parteien der Regierung\, die zur gleichen Zeit eine Abschieb
 eoffensive und eine Bezahlkarte fordern sowie über einen Arbeitszwang fü
 r Geflüchtete diskutieren.\n\nDeswegen finden wir es wichtig\, Perspektiv
 en von antirassistischen und selbstorganisierten Gruppen laut und sichtbar
  zu machen.\n\nWir rufen zur Spende auf\, um eine antifaschistische Organi
 sierung\, welche es vor allem zum Ziel hat migrantische Stimmen zu stärke
 n\, zu unterstützen.\n\nKommt am 24. April um 18 Uhr zu unserer Soli-Küf
 a im AJZ!
ATTACH;FMTTYPE=image/jpeg:https://www.lilabi.net/wp-content/uploads/2024/0
 4/163EEA53-16B2-40FC-81EB-96BA71BCF9B5.jpeg
CATEGORIES:Kneipe,Küfa,Soli
LOCATION:AJZ Bielefeld\, Heeper Str. 132\, 33607 Bielefeld\, Deutschland
X-APPLE-STRUCTURED-LOCATION;VALUE=URI;X-ADDRESS=Heeper Str. 132\, 33607 Bie
 lefeld\, Deutschland;X-APPLE-RADIUS=100;X-TITLE=AJZ Bielefeld:geo:0,0
END:VEVENT
BEGIN:VTIMEZONE
TZID:Europe/Berlin
X-LIC-LOCATION:Europe/Berlin
BEGIN:DAYLIGHT
DTSTART:20240331T030000
TZOFFSETFROM:+0100
TZOFFSETTO:+0200
TZNAME:CEST
END:DAYLIGHT
END:VTIMEZONE
END:VCALENDAR