BEGIN:VCALENDAR
VERSION:2.0
PRODID:-//wp-events-plugin.com//7.2.3.1//EN
TZID:Europe/Berlin
X-WR-TIMEZONE:Europe/Berlin
BEGIN:VEVENT
UID:4300@lilabi.net
DTSTART;TZID=Europe/Berlin:20220702T190000
DTEND;TZID=Europe/Berlin:20220702T234500
DTSTAMP:20220608T125613Z
URL:https://www.lilabi.net/events/soli-konzert-fuers-dach/
SUMMARY:SOLI KONZERT FÜRS DACH
DESCRIPTION:Im Herbst gibt es endlich ein neues Dach. Dafür braucht das Ha
 us Geld\, um z.B. das Gerüst und Baumaterialen zu finanzieren.\n\nSchubla
 de Punk präsentiert einen SoliAbend mit:\n\nLisaBouvier (BI)\nSpit Acid (
 OS)\nBunkermarie (MI)\nPhantom Pain (BI)\n\nEinlass: 19 Uhr\n\nEs gibt lec
 kere vegane SoliPizza und nach den Bands eine fette AfterShowParty. Tragt 
 die Info gerne weiter und bringt eure Homies mit.\n\nBitte macht einen Sel
 bst-/ Schnelltest bevor ihr ins Haus kommt.
ATTACH;FMTTYPE=image/jpeg:https://www.lilabi.net/wp-content/uploads/2022/0
 6/2022_Soli_Dach_AJZ_skaliert.jpg
CATEGORIES:Konzert
LOCATION:AJZ Bielefeld\, Heeper Str. 132\, 33607 Bielefeld\, Deutschland
X-APPLE-STRUCTURED-LOCATION;VALUE=URI;X-ADDRESS=Heeper Str. 132\, 33607 Bie
 lefeld\, Deutschland;X-APPLE-RADIUS=100;X-TITLE=AJZ Bielefeld:geo:0,0
END:VEVENT
BEGIN:VTIMEZONE
TZID:Europe/Berlin
X-LIC-LOCATION:Europe/Berlin
BEGIN:DAYLIGHT
DTSTART:20220327T030000
TZOFFSETFROM:+0100
TZOFFSETTO:+0200
TZNAME:CEST
END:DAYLIGHT
END:VTIMEZONE
END:VCALENDAR