BEGIN:VCALENDAR
VERSION:2.0
PRODID:-//wp-events-plugin.com//7.2.3.1//EN
TZID:Europe/Berlin
X-WR-TIMEZONE:Europe/Berlin
BEGIN:VEVENT
UID:3432@lilabi.net
DTSTART;TZID=Europe/Berlin:20200905T150000
DTEND;TZID=Europe/Berlin:20200905T200000
DTSTAMP:20200820T183428Z
URL:https://www.lilabi.net/events/soli-kaffee-kuchen-und-umsonst-flohmarkt
 /
SUMMARY:Soli Kaffee & Kuchen und Umsonst-Flohmarkt
DESCRIPTION:Der Infoladen lädt ein:\n\nSoli Kaffee&amp\;Kuchen und Umsonst
  Flohmarkt.\n\nAm 05. September 2020\, ab 15 Uhr\n\nim AJZ-Hof\, Heeperstr
 . 132\, Bielefeld.\n\n&nbsp\;\n\nUmsonst-Flohmarkt?!\n\nWir stellen ein pa
 ar Tische bereit\, ihr bringt (alte) Sachen mit\, die ihr nicht mehr brauc
 ht. Alle können miteinander tauschen\, was mitnehmen oder da lassen.\n\nO
 b Kleidung\, Platten\, Tapes\, Gebrauchsgegenstände\, Spielzeug... egal. 
 Aber bitte keinen Sperrmüll!\n\n&nbsp\;\n\nda der Infoladen wie immer Koh
 le braucht\, werden wir für Kaffee und Kuchen allerdings etwas Geld nehme
 n.\n\nDarüber hinaus freuen wir uns natürlich über Spenden!\n\n&nbsp\;
CATEGORIES:Soli
LOCATION:\, \, 
X-APPLE-STRUCTURED-LOCATION;VALUE=URI;X-ADDRESS=\, ;X-APPLE-RADIUS=100;X-TI
 TLE=:geo:0,0
END:VEVENT
BEGIN:VTIMEZONE
TZID:Europe/Berlin
X-LIC-LOCATION:Europe/Berlin
BEGIN:DAYLIGHT
DTSTART:20200329T030000
TZOFFSETFROM:+0100
TZOFFSETTO:+0200
TZNAME:CEST
END:DAYLIGHT
END:VTIMEZONE
END:VCALENDAR