BEGIN:VCALENDAR
VERSION:2.0
PRODID:-//wp-events-plugin.com//7.2.3.1//EN
TZID:Europe/Berlin
X-WR-TIMEZONE:Europe/Berlin
BEGIN:VEVENT
UID:3585@lilabi.net
DTSTART;TZID=Europe/Berlin:20211126T180000
DTEND;TZID=Europe/Berlin:20211126T210000
DTSTAMP:20211124T145632Z
URL:https://www.lilabi.net/events/soli-biryani-freiheit-fuer-balochistan/
SUMMARY:Soli-Biryani - Freiheit für Balochistan!
DESCRIPTION:We invite you to stand in solidarity with the Baloch community 
 and the activists addressing extreme human rights violations in Balochista
 n. The Café will be offering a Vegan Biryani event in IBZ Bielefeld to su
 pport the Baloch affiliated advocacy groups.\n\nTo illustrate the extent o
 f oppression in Balochistan\, only between October and November\, the Paki
 stan Army has detained 41 persons in more than 40 military operations and 
 raids and forcibly disappeared them. In the same months\, thirteen were ki
 lled by the Pakistan Army\, nine by the Counter-Terrorism Department\, one
  child by the police and four by the state-backed Death Squads. The bodies
  of four persons were recovered from different parts of Balochistan whose 
 cause of death was not ascertained. The Pakistani military looted several 
 homes during the operations and badly tortured the people. Nineteen missin
 g persons were recovered from the army dungeons from different areas this 
 month.\n\nThere have been several other repressive events committed by the
  Pakistani military and paramilitary forces against the Baloch activists a
 nd their families as well. We would like to raise awareness about the curr
 ent unacceptable situation and practice solidarity towards the activists i
 n the stolen land. The donations help to further advocacy groups and activ
 ists' families to cover some of the expenses\n\nDue to the current increas
 e in Covid-19 cases\, there will be the only option of taking away\, meani
 ng that do not forget to bring a box and to wear the mask.\n\nIn solidarit
 y\n\n///\n\nWir laden euch herzlich ein\, sich mit der Baloch Community un
 d den Aktivist*innen zu solidarisieren\, die sich gegen die schweren Mensc
 henrechtsverletzungen in Balochistan einsetzen. Café Exil wird im IBZ veg
 anes Biryani anbieten\, um die Baloch Community und ihre Verbündeten zu u
 nterstützen.\n\nUm das Ausmaß der Unterdrückung in Balochistan zu verde
 utlichen: die pakistanische Armee hat allein zwischen Oktober und November
  41 Personen in mehr als 40 Militärinterventionen und Razzien festgenomme
 n und gewaltsam verschleppt. In den selben Monaten wurden 14 Personen von 
 der pakistanischen Armee getötet\, neun von der Antiterrorbehörde\, ein 
 Kind von der Polizei und vier von den staatlichen Killerkommandos. Aus ver
 schiedenen Teilen Balochistans wurden die Leichen von vier Personen geborg
 en\, deren Todesursache nicht geklärt werden konnte. Das pakistanische Mi
 litär hat während der Operationen mehrere Häuser geplündert und Mensch
 en brutal gefoltert. Neunzehn vermisste Personen wurden in diesem Monat in
  verschiedenen Gebieten aus den Militärkerkern geborgen.\n\nDas pakistani
 sche Militär und die paramilitärischen Kräfte haben noch weitere Repres
 salien gegen die Baloch Aktivist*innen und ihre Familien verübt. Wir möc
 hten die Aufmerksamkeit auf die derzeitige inakzeptable Situation lenken u
 nd stehen in Solidarität mit den Aktivist*innen des geraubten Landes. Die
  Spenden helfen\, die Interessenvertretungen und die Familien der Aktivist
 *innen zu unterstützen und einen Teil der Kosten zu decken.\n\nAufgrund d
 er aktuellen Zunahme der Corona-Fälle wird es nur die Möglichkeit geben\
 , das Essen mitzunehmen. Vergesst also nicht eine eigene Box mitzubringen 
 und die Maske zu tragen.\n\nIn Solidarität!
ATTACH;FMTTYPE=image/jpeg:https://www.lilabi.net/wp-content/uploads/2021/1
 1/SOLI-BIRYANI.jpg
CATEGORIES:Soli
LOCATION:IBZ Bielefeld\, Teutoburger Straße 106\, Bielefeld\, Deutschland
X-APPLE-STRUCTURED-LOCATION;VALUE=URI;X-ADDRESS=Teutoburger Straße 106\, B
 ielefeld\, Deutschland;X-APPLE-RADIUS=100;X-TITLE=IBZ Bielefeld:geo:0,0
END:VEVENT
BEGIN:VTIMEZONE
TZID:Europe/Berlin
X-LIC-LOCATION:Europe/Berlin
BEGIN:STANDARD
DTSTART:20211031T020000
TZOFFSETFROM:+0200
TZOFFSETTO:+0100
TZNAME:CET
END:STANDARD
END:VTIMEZONE
END:VCALENDAR