BEGIN:VCALENDAR
VERSION:2.0
PRODID:-//wp-events-plugin.com//7.2.3.1//EN
TZID:Europe/Berlin
X-WR-TIMEZONE:Europe/Berlin
BEGIN:VEVENT
UID:3444@lilabi.net
DTSTART;TZID=Europe/Berlin:20201008T190000
DTEND;TZID=Europe/Berlin:20201008T210000
DTSTAMP:20200914T143931Z
URL:https://www.lilabi.net/events/sex-zwangsarbeit-in-ns-konzentrationslag
 ern-4/
SUMMARY:Sex-Zwangsarbeit in NS-Konzentrationslagern
DESCRIPTION:Vortrag\nSex-Zwangsarbeit in NS-Konzentrationslagern - Nachholt
 ermin aus April\n\n\n\nHäftlingsbordelle sind ein in der Geschichte der K
 onzentrationslager bislang wenig\nbeachtetes Phänomen. Die weiblichen Hä
 ftlinge\, die Sex-Zwangsarbeit leisten mussten\,\nschwiegen nach 1945 eben
 so über ihre Erfahrungen wie die Bordellbesucher\n– männliche\, vor al
 lem deutsche Häftlinge\, denen die SS den Bordellbesuch im Rahmen\neines 
 Prämiensystems ermöglichte.\nIn den Jahren 1942-1945 mussten Frauen in i
 nsgesamt 10 Konzentrationslagern Sex-\nZwangsarbeit leisten\, die Mehrzahl
  von ihnen wurde im Frauen-KZ Ravensbrück rekrutiert.\nDie Projektgruppe 
 Ravensbrück aus Bielefeld wird Einblick in dieses wenig bearbeitete\nund 
 kaum beachtete Thema geben und über die Schwierigkeiten der Auseinanderse
 tzung\ndamit berichten.\n\nBeginn 19h\n\nOrt: Markthalle Herford\n\nWir fr
 euen uns\, dass die Veranstaltung aus dem April nachgeholt werden kann. Bi
 tte die derzeitigen Hygienebedingungen beachten.\n\nVeranstaltende: Fachst
 elle NRWeltoffen im Kreis Herford gemeinsam mit der Projektgruppe Ravensbr
 ück\, dem Kuratorium Erinnern Forschen Gedenken e.V. und der Initiative 9
 . November aus Bünde\n\nWeitere Informationen: www.gegenrechts.info\n\n
CATEGORIES:Vortrag
LOCATION:Markthalle Herford\, Rathausplatz 2\, Herford\, NRW\, 32052\, Deut
 schland
X-APPLE-STRUCTURED-LOCATION;VALUE=URI;X-ADDRESS=Rathausplatz 2\, Herford\, 
 NRW\, 32052\, Deutschland;X-APPLE-RADIUS=100;X-TITLE=Markthalle Herford:ge
 o:0,0
END:VEVENT
BEGIN:VTIMEZONE
TZID:Europe/Berlin
X-LIC-LOCATION:Europe/Berlin
BEGIN:DAYLIGHT
DTSTART:20200329T030000
TZOFFSETFROM:+0100
TZOFFSETTO:+0200
TZNAME:CEST
END:DAYLIGHT
END:VTIMEZONE
END:VCALENDAR