BEGIN:VCALENDAR
VERSION:2.0
PRODID:-//wp-events-plugin.com//7.2.3.1//EN
TZID:Europe/Berlin
X-WR-TIMEZONE:Europe/Berlin
BEGIN:VEVENT
UID:1623@lilabi.net
DTSTART;TZID=Europe/Berlin:20181203T190000
DTEND;TZID=Europe/Berlin:20181203T210000
DTSTAMP:20181201T000311Z
URL:https://www.lilabi.net/events/sex-zwangsarbeit-in-ns-konzentrationslag
 ern-2/
SUMMARY:Sex-Zwangsarbeit in NS-Konzentrationslagern
DESCRIPTION:Sex-Zwangsarbeit in NS-Konzentrationslagern\n\n03.12.2018\, 19 
 Uhr\, AJZ Bielefeld (Heeperstr. 132)\n\nOffen für alle Geschlechter\n\nVo
 rtrag\nHäftlingsbordelle sind ein in der Geschichte der Konzentrationslag
 er bislang wenig beachtetes Phänomen. Die weiblichen Häftlinge\, die Sex
 -Zwangsarbeit leisten mussten\, schwiegen nach 1945 ebenso über ihre Erfa
 hrungen wie die Bordellbesucher - männliche\, vor allem deutsche Häftlin
 ge\, denen die SS den Bordellbesuch im Rahmen eines Prämiensystems ermög
 lichte. In den Jahren 1942-1945 mussten Frauen in insgesamt 10 Konzentrati
 onslagern Sex-Zwangsarbeit leisten\, die Mehrzahl von ihnen wurde im Fraue
 n-KZ Ravensbrück rekrutiert. Die Projektgruppe Ravensbrück aus Bielefeld
  wird Einblick in dieses wenig bearbeitete und kaum beachtete Thema geben 
 und über die Schwierigkeiten der Auseinandersetzung damit berichten. Auß
 erdem wird es ausreichend Raum für Fragen und Diskussionen geben.
CATEGORIES:Aktionstage
LOCATION:\, \, 
X-APPLE-STRUCTURED-LOCATION;VALUE=URI;X-ADDRESS=\, ;X-APPLE-RADIUS=100;X-TI
 TLE=:geo:0,0
END:VEVENT
BEGIN:VTIMEZONE
TZID:Europe/Berlin
X-LIC-LOCATION:Europe/Berlin
BEGIN:STANDARD
DTSTART:20181028T020000
TZOFFSETFROM:+0200
TZOFFSETTO:+0100
TZNAME:CET
END:STANDARD
END:VTIMEZONE
END:VCALENDAR