BEGIN:VCALENDAR
VERSION:2.0
PRODID:-//wp-events-plugin.com//7.2.3.1//EN
TZID:Europe/Berlin
X-WR-TIMEZONE:Europe/Berlin
BEGIN:VEVENT
UID:5796@lilabi.net
DTSTART;TZID=Europe/Berlin:20241030T180000
DTEND;TZID=Europe/Berlin:20241030T190000
DTSTAMP:20241004T092723Z
URL:https://www.lilabi.net/events/seminar-turkeys-attacks-energy-and-water
 -scarcity-international-solidarity-and-resistances-referent-necmettin-tuer
 k-ag-sol-i-uni-bielefeld/
SUMMARY:(Seminar): Turkey’s attacks\, energy and water scarcity: Internat
 ional solidarity and resistances - Referent: Necmettin Türk - (AG Sol-I U
 ni Bielefeld)
DESCRIPTION:
ATTACH;FMTTYPE=image/jpeg:https://www.lilabi.net/wp-content/uploads/2024/1
 0/PNG-Bild-2-5.png
CATEGORIES:Semesterstart
LOCATION:Universität Bielefeld V2-135\, Universitätsstraße 25\, 33615 Bi
 elefeld\, Deutschland
X-APPLE-STRUCTURED-LOCATION;VALUE=URI;X-ADDRESS=Universitätsstraße 25\, 3
 3615 Bielefeld\, Deutschland;X-APPLE-RADIUS=100;X-TITLE=Universität Biele
 feld V2-135:geo:0,0
END:VEVENT
BEGIN:VTIMEZONE
TZID:Europe/Berlin
X-LIC-LOCATION:Europe/Berlin
BEGIN:STANDARD
DTSTART:20241027T020000
TZOFFSETFROM:+0200
TZOFFSETTO:+0100
TZNAME:CET
END:STANDARD
END:VTIMEZONE
END:VCALENDAR