BEGIN:VCALENDAR
VERSION:2.0
PRODID:-//wp-events-plugin.com//7.2.3.1//EN
TZID:Europe/Berlin
X-WR-TIMEZONE:Europe/Berlin
BEGIN:VEVENT
UID:3731@lilabi.net
DTSTART;TZID=Europe/Berlin;VALUE=DATE:20220709
DTEND;TZID=Europe/Berlin;VALUE=DATE:20220710
DTSTAMP:20220529T090623Z
URL:https://www.lilabi.net/events/selbstbehauptung-und-selbstverteidigung-
 fuer-flinta/
SUMMARY:Selbstbehauptung und Selbstverteidigung für FLINTA
DESCRIPTION:Ankündigungstext:\nKennst du das auch? Nervige Sprüche\, unge
 wolltes Angefasst-werden oder\ndas Gefühl\, jemand starrt dich an…\nUnd
  dann: nicht wissen\, was du tun kannst\; Schwierigkeiten NEIN zu sagen.\n
 Vermeintlich „normale“ sexistische Übergriffe und Diskriminierungen a
 uf\nder Straße\, im Uniseminar genauso wie in Liebesbeziehung oder\nFreun
 d_innenschaft\, gehören zum Lebensalltag von Frauen* und trans*\nMenschen
 .\n\nIm Rahmen des Workshops setzen wir uns mit körperlichen und verbalen
 \nGrenzüberschreitungen auseinandersetzen. Zum einen geht es die Wahrnehm
 ung für\nsexistische und trans*feindliche Grenzüberschreitungen zu schä
 rfen und zum anderen\nverschiedene Umgangsweisen auszuprobieren\, um so un
 sere Handlungs- und\nVerhaltensmöglichkeiten zu erweitern.\n\nDie Inhalte
  des Workshops bauen auf dem feministischen\nSelbstbehauptungskonzept Wend
 o* auf\, welches in den 70er und 80er Jahren\nim Kontext feministischer Be
 wegung entstanden ist und weiterentwickelt\nwurde.\n
CATEGORIES:Workshop
END:VEVENT
BEGIN:VTIMEZONE
TZID:Europe/Berlin
X-LIC-LOCATION:Europe/Berlin
BEGIN:DAYLIGHT
DTSTART:20220327T030000
TZOFFSETFROM:+0100
TZOFFSETTO:+0200
TZNAME:CEST
END:DAYLIGHT
END:VTIMEZONE
END:VCALENDAR