BEGIN:VCALENDAR
VERSION:2.0
PRODID:-//wp-events-plugin.com//7.2.3.1//EN
TZID:Europe/Berlin
X-WR-TIMEZONE:Europe/Berlin
BEGIN:VEVENT
UID:4606@lilabi.net
DTSTART;TZID=Europe/Berlin:20230127T200000
DTEND;TZID=Europe/Berlin:20230127T230000
DTSTAMP:20230116T140618Z
URL:https://www.lilabi.net/events/schwarzer-freitag-wie-im-echten-leben/
SUMMARY:SCHWARZER FREITAG: "Wie im echten Leben"
DESCRIPTION:Am letzten Freitag des Monats wird es dunkel im FAU Lokal und w
 ir führen einen Film aus dem Bestand der Bibliothek vor. Thematisch dreht
  es sich dabei stets um Filme aus proletarischen Lebenswelten\, die unterh
 alten sollen\, aber auch zum Mit- und Weiterdenken anregen sollen.\nDer Fi
 lm “Wie im echten Leben” zeigt die Welt von Frauen\, die in einer Putz
 kolonne in Frankreich Fährboote im Stundentakt schrubben. Trotzdem ist de
 r Film\, der Blick in diese Welt\, anrührend und bezaubernd. Das liegt an
  der Hauptdarstellerin Juliette und ihren Kolleginnen\, die meisten von ih
 nen gespielt von Laiendarstellerinnen\, die im wahren Leben putzen.
ATTACH;FMTTYPE=image/jpeg:https://www.lilabi.net/wp-content/uploads/2023/0
 1/sffb.jpg
CATEGORIES:Film
LOCATION:FAU-Lokal\, Metzer Straße 20\, Bielefeld\, Deutschland
X-APPLE-STRUCTURED-LOCATION;VALUE=URI;X-ADDRESS=Metzer Straße 20\, Bielefe
 ld\, Deutschland;X-APPLE-RADIUS=100;X-TITLE=FAU-Lokal:geo:0,0
END:VEVENT
BEGIN:VTIMEZONE
TZID:Europe/Berlin
X-LIC-LOCATION:Europe/Berlin
BEGIN:STANDARD
DTSTART:20221030T020000
TZOFFSETFROM:+0200
TZOFFSETTO:+0100
TZNAME:CET
END:STANDARD
END:VTIMEZONE
END:VCALENDAR