BEGIN:VCALENDAR
VERSION:2.0
PRODID:-//wp-events-plugin.com//7.2.3.1//EN
TZID:Europe/Berlin
X-WR-TIMEZONE:Europe/Berlin
BEGIN:VEVENT
UID:4739@lilabi.net
DTSTART;TZID=Europe/Berlin:20230526T200000
DTEND;TZID=Europe/Berlin:20230526T230000
DTSTAMP:20230518T114458Z
URL:https://www.lilabi.net/events/schwarzer-freitag-unruh-im-offkino/
SUMMARY:Schwarzer Freitag: Unruh im Offkino
DESCRIPTION:Gemeinsam mit dem Offkino zeigen wir am 26.05. den Film „Unru
 h – Ein schweizer Sommer der Anarchie.“ Einlass ist um 20 Uhr\, der Fi
 lm beginnt um 20:30 Uhr.\n\nDarin geht es um schweizer Uhrmacher:innen\, d
 ie sich zu einer anarchistischen Gewerkschaft zusammenschließen und damit
  das Interesse von Pyotr Kropotkin wecken.\n\nMehr Informationen: http://w
 ww.offkino.de/#post-885\n\n&nbsp\;\n\nLeichte Sprache:\n\nWir zeigen den F
 ilm „Unruh – Ein schweizer Sommer der Anarchie“\n\nWir zeigen den Fi
 lm am 26. Mai.\n\nWir zeigen den Film gemeinsam mit dem Off-kino.\n\nDer E
 inlass ist um 20 Uhr.\n\nDer Film fängt um 20:30 Uhr an.\n\nIn dem Film g
 eht es um Leute\, die Uhren machen.\n\nDie Leute kommen aus der Schweiz.\n
 \nDie Leute schließen gründen eine anar-chistische Gewerk-schaft.\n\nDer
  bekannte Anar-chist Pyotr Kropotkin wird auf sie aufmerk-sam.\n\nMehr Inf
 or-mationen:\n\nhttp://www.offkino.de/#post-885\n\nDie Infor-mationen sind
  nicht in Leichter Sprache.
ATTACH;FMTTYPE=image/jpeg:https://www.lilabi.net/wp-content/uploads/2023/0
 5/Unruh_Sharepic_klein.jpg
CATEGORIES:Film
LOCATION:Offkino Bielefeld\, August-Bebel-Str. 94\, Bielefeld\, 33602\, Deu
 tschland
X-APPLE-STRUCTURED-LOCATION;VALUE=URI;X-ADDRESS=August-Bebel-Str. 94\, Biel
 efeld\, 33602\, Deutschland;X-APPLE-RADIUS=100;X-TITLE=Offkino Bielefeld:g
 eo:0,0
END:VEVENT
BEGIN:VTIMEZONE
TZID:Europe/Berlin
X-LIC-LOCATION:Europe/Berlin
BEGIN:DAYLIGHT
DTSTART:20230326T030000
TZOFFSETFROM:+0100
TZOFFSETTO:+0200
TZNAME:CEST
END:DAYLIGHT
END:VTIMEZONE
END:VCALENDAR