BEGIN:VCALENDAR
VERSION:2.0
PRODID:-//wp-events-plugin.com//7.2.3.1//EN
TZID:Europe/Berlin
X-WR-TIMEZONE:Europe/Berlin
BEGIN:VEVENT
UID:4395@lilabi.net
DTSTART;TZID=Europe/Berlin:20220930T200000
DTEND;TZID=Europe/Berlin:20220930T230000
DTSTAMP:20220905T115320Z
URL:https://www.lilabi.net/events/schwarzer-freitag-regeln-am-band-bei-hoh
 er-geschwindigkeit/
SUMMARY:SCHWARZER FREITAG: Regeln am Band\, bei hoher Geschwindigkeit
DESCRIPTION:In „Regeln am Band\, bei hoher Geschwindigkeit“ zeigt Yulia
  Lokshina\, wie osteuropäische Leiharbeiter in der deutschen Fleischindus
 trie ausgebeutet werden. Yulia Lokshinas Film arbeitet mit drei Ebenen: Di
 e Regisseurin begleitet osteuropäische Leiharbeiterinnen und Leiharbeiter
 \, die in einem Schlachtbetrieb in der westdeutschen Provinz ums Überlebe
 n kämpfen. Sie filmt Aktivistinnen und Aktivisten\, die sich bei den Beh
 örden für die Rechte der Arbeiterinnen und Arbeiter einsetzen. Und sie i
 st dabei\, als an einem Gymnasium in München das Brecht-Theaterstück „
 Die heilige Johanna der Schlachthöfe“ geprobt wird.\n\n„Regeln am Ban
 d\, bei hoher Geschwindigkeit“ ist ein Film\, der von den menschenunwür
 digen Zuständen in den Tönnies-Fleischfabriken erzählt\, denen wir unse
 re billigen Lebensmittel verdanken und nicht nur Tönnies sein Vermögen\,
  und der zugleich darüber nachdenkt\, was dieses Erzählen sein und bewir
 ken kann angesichts des Umstands\, dass das Wissen um die skandalösen Zus
 tände mitten in Deutschland nicht ausreicht\, sie aus der Welt zu schaffe
 n.
ATTACH;FMTTYPE=image/jpeg:https://www.lilabi.net/wp-content/uploads/2022/0
 9/regelnamband.png
CATEGORIES:Film
LOCATION:FAU-Lokal\, Metzer Straße 20\, Bielefeld\, Deutschland
X-APPLE-STRUCTURED-LOCATION;VALUE=URI;X-ADDRESS=Metzer Straße 20\, Bielefe
 ld\, Deutschland;X-APPLE-RADIUS=100;X-TITLE=FAU-Lokal:geo:0,0
END:VEVENT
BEGIN:VTIMEZONE
TZID:Europe/Berlin
X-LIC-LOCATION:Europe/Berlin
BEGIN:DAYLIGHT
DTSTART:20220327T030000
TZOFFSETFROM:+0100
TZOFFSETTO:+0200
TZNAME:CEST
END:DAYLIGHT
END:VTIMEZONE
END:VCALENDAR