BEGIN:VCALENDAR
VERSION:2.0
PRODID:-//wp-events-plugin.com//7.2.3.1//EN
TZID:Europe/Berlin
X-WR-TIMEZONE:Europe/Berlin
BEGIN:VEVENT
UID:6594@lilabi.net
DTSTART;TZID=Europe/Berlin:20260130T190000
DTEND;TZID=Europe/Berlin:20260130T210000
DTSTAMP:20260126T174714Z
URL:https://www.lilabi.net/events/schwarzer-freitag-anarcho-kino-im-fau-lo
 kal/
SUMMARY:Schwarzer Freitag: Anarcho-Kino im FAU-Lokal
DESCRIPTION:1877: der russische Kartograf Pyotr Kropotkin kommt in ein Tal 
 im Schweizer Jura\, angelockt von der hochentwickelten Uhrenfertigung dort
  und von der Nachricht\, dass sich Arbeiter*innen zu einer anarchistischen
  Gewerkschaft zusammengeschlossen haben. Er trifft auf eine Gesellschaft\,
  in der Beamte und Gendarmen über die richtige Uhrzeit wachen und dem Pro
 duktionsbetrieb und der Gemeinschaft den Takt vorgeben. Immer effizienter 
 werden die Produktionsabläufe in den Uhrmanufakturen organisiert\, die se
 kundengenaue Kontrolle erzeugt einen steigenden Druck auf die Beschäftigt
 en. Davon kann auch Josephine ein Lied singen\, die über die Montage der 
 Unruh\, des Herzstücks der mechanischen Uhr\, wacht und den zugereisten K
 ropotkin kennenlernt. Inspiriert von anarchistischen Ideen fordern sie die
  Befreiung der Zeit\, setzen Solidarität und Pazifismus gegen Marktgesetz
 e und Nationalismus.\n/ Eintritt frei /
ATTACH;FMTTYPE=image/jpeg:https://www.lilabi.net/wp-content/uploads/2026/0
 1/FAU-Bielefeld.jpg
CATEGORIES:Diskussion,Film
LOCATION:FAU-Lokal\, Metzer Straße 20\, Bielefeld\, Deutschland
X-APPLE-STRUCTURED-LOCATION;VALUE=URI;X-ADDRESS=Metzer Straße 20\, Bielefe
 ld\, Deutschland;X-APPLE-RADIUS=100;X-TITLE=FAU-Lokal:geo:0,0
END:VEVENT
BEGIN:VTIMEZONE
TZID:Europe/Berlin
X-LIC-LOCATION:Europe/Berlin
BEGIN:STANDARD
DTSTART:20251026T020000
TZOFFSETFROM:+0200
TZOFFSETTO:+0100
TZNAME:CET
END:STANDARD
END:VTIMEZONE
END:VCALENDAR