BEGIN:VCALENDAR
VERSION:2.0
PRODID:-//wp-events-plugin.com//7.2.3.1//EN
TZID:Europe/Berlin
X-WR-TIMEZONE:Europe/Berlin
BEGIN:VEVENT
UID:3423@lilabi.net
DTSTART;TZID=Europe/Berlin:20201030T200000
DTEND;TZID=Europe/Berlin:20201030T220000
DTSTAMP:20200804T071128Z
URL:https://www.lilabi.net/events/schwarzer-freitag-16/
SUMMARY:Schwarzer Freitag
DESCRIPTION:Am letzten Freitag des Monats wollen wir uns ab 20.00 Uhr gemei
 nsam mit Euch Filme anschauen\, die die Situation von Lohnabhängigen und 
 ihrer (Selbst-) Organisierung thematisieren. Kommt gerne vorbei und tausch
 t Euch mit uns über die Filme aus.\n\nWir freuen uns auf Euch!\n\nEURE FA
 U BIELEFELD
LOCATION:FAU-Lokal\, Metzer Straße 20\, Bielefeld\, Deutschland
X-APPLE-STRUCTURED-LOCATION;VALUE=URI;X-ADDRESS=Metzer Straße 20\, Bielefe
 ld\, Deutschland;X-APPLE-RADIUS=100;X-TITLE=FAU-Lokal:geo:0,0
END:VEVENT
BEGIN:VTIMEZONE
TZID:Europe/Berlin
X-LIC-LOCATION:Europe/Berlin
BEGIN:STANDARD
DTSTART:20201025T020000
TZOFFSETFROM:+0200
TZOFFSETTO:+0100
TZNAME:CET
END:STANDARD
END:VTIMEZONE
END:VCALENDAR