BEGIN:VCALENDAR
VERSION:2.0
PRODID:-//wp-events-plugin.com//7.2.3.1//EN
TZID:Europe/Berlin
X-WR-TIMEZONE:Europe/Berlin
BEGIN:VEVENT
UID:6412@lilabi.net
DTSTART;TZID=Europe/Berlin:20251023T180000
DTEND;TZID=Europe/Berlin:20251023T200000
DTSTAMP:20251013T125230Z
URL:https://www.lilabi.net/events/schulkritik-vortrag-und-diskussion-mit-d
 er-gruppe-widerspruch/
SUMMARY:Schulkritik - Vortrag und Diskussion mit der Gruppe Widerspruch
DESCRIPTION:Kritik am Schulsystem gibt es zuhauf: Es gäbe keine Chancengle
 ichheit\, es werde zu früh selektiert\, die Noten seien ungerecht und die
  Schüler*innen würden zu wenig lernen bzw. zu schlecht aufs Leben vorber
 eitet.\n\nWir behaupten: Wer fehlende Chancengleichheit oder zu frühe Sel
 ektion kritisiert\, stört sich nicht daran\, dass die Schule Gewinner*inn
 en und Verlierer*innen produziert\, solange die Sortierung nur korrekt abl
 äuft. Zudem lässt sich feststellen\, dass mit der schulischen Sortierung
  schon eine Vorsortierung auf die Hierarchie des Arbeitsmarktes geleistet 
 ist. Diese Vorsortierung erfolgt in der Schule durch die Organisation des 
 Lernens als Leistungskonkurrenz\, in der die Note der Maßstab des Erfolge
 s ist. Das Lernen für Noten statt das Lernen aus Interesse wird Schüler*
 innen also systematisch antrainiert. Dies hat nicht nur schädliche Folgen
  für das Lernen\, sondern auch für die Schüler*innen.\n\nDas alles woll
 en wir im Workshop näher begründen und mit Euch diskutieren. Vorkenntnis
 se sind nicht nötig.
ATTACH;FMTTYPE=image/jpeg:https://www.lilabi.net/wp-content/uploads/2025/1
 0/schule.jpg
CATEGORIES:Diskussion,Vortrag,Workshop
LOCATION:Universität Bielefeld\, Universitätsstraße 25\, Bielefeld\, 336
 15\, Deutschland
X-APPLE-STRUCTURED-LOCATION;VALUE=URI;X-ADDRESS=Universitätsstraße 25\, B
 ielefeld\, 33615\, Deutschland;X-APPLE-RADIUS=100;X-TITLE=Universität Bie
 lefeld:geo:0,0
END:VEVENT
BEGIN:VTIMEZONE
TZID:Europe/Berlin
X-LIC-LOCATION:Europe/Berlin
BEGIN:DAYLIGHT
DTSTART:20250330T030000
TZOFFSETFROM:+0100
TZOFFSETTO:+0200
TZNAME:CEST
END:DAYLIGHT
END:VTIMEZONE
END:VCALENDAR