BEGIN:VCALENDAR
VERSION:2.0
PRODID:-//wp-events-plugin.com//7.2.3.1//EN
TZID:Europe/Berlin
X-WR-TIMEZONE:Europe/Berlin
BEGIN:VEVENT
UID:6439@lilabi.net
DTSTART;TZID=Europe/Berlin:20251023T180000
DTEND;TZID=Europe/Berlin:20251023T200000
DTSTAMP:20251020T223821Z
URL:https://www.lilabi.net/events/schulkritik-vortrag-und-diskussion-mit-d
 er-gruppe-widerspruch-2/
SUMMARY:Schulkritik – Vortrag und Diskussion mit der Gruppe Widerspruch
DESCRIPTION:Kritik am Schulsystem gibt es zuhauf: Es gäbe keine Chancengle
 ichheit\, es werde zu früh selektiert\, die Noten seien ungerecht und die
  Schüler*innen würden zu wenig lernen bzw. zu schlecht aufs Leben vorber
 eitet.Wir behaupten: Wer fehlende Chancengleichheit oder zu frühe Selekti
 on kritisiert\, stört sich nicht daran\, dass die Schule Gewinner*innen u
 nd Verlierer*innen produziert\, solange die Sortierung nur korrekt abläuf
 t. Zudem lässt sich feststellen\, dass mit der schulischen Sortierung sch
 on eine Vorsortierung auf die Hierarchie des Arbeitsmarktes geleistet ist.
  Diese Vorsortierung erfolgt in der Schule durch die Organisation des Lern
 ens als Leistungskonkurrenz\, in der die Note der Maßstab des Erfolges is
 t. Das Lernen für Noten statt das Lernen aus Interesse wird Schüler*inne
 n also systematisch antrainiert. Dies hat nicht nur schädliche Folgen fü
 r das Lernen\, sondern auch für die Schüler*innen.\n\nDas alles wollen w
 ir im Workshop näher begründen und mit Euch diskutieren. Vorkenntnisse s
 ind nicht nötig.\n\n
ATTACH;FMTTYPE=image/jpeg:https://www.lilabi.net/wp-content/uploads/2025/1
 0/kritik_raum_schule.jpg
CATEGORIES:Vortrag,Workshop
LOCATION:Universität Bielefeld - B2-278\, Universitätsstraße 25\, Bielef
 eld\, 33615\, Deutschland
X-APPLE-STRUCTURED-LOCATION;VALUE=URI;X-ADDRESS=Universitätsstraße 25\, B
 ielefeld\, 33615\, Deutschland;X-APPLE-RADIUS=100;X-TITLE=Universität Bie
 lefeld - B2-278:geo:0,0
END:VEVENT
BEGIN:VTIMEZONE
TZID:Europe/Berlin
X-LIC-LOCATION:Europe/Berlin
BEGIN:DAYLIGHT
DTSTART:20250330T030000
TZOFFSETFROM:+0100
TZOFFSETTO:+0200
TZNAME:CEST
END:DAYLIGHT
END:VTIMEZONE
END:VCALENDAR