BEGIN:VCALENDAR
VERSION:2.0
PRODID:-//wp-events-plugin.com//7.2.3.1//EN
TZID:Europe/Berlin
X-WR-TIMEZONE:Europe/Berlin
BEGIN:VEVENT
UID:6586@lilabi.net
DTSTART;TZID=Europe/Berlin:20260124T200000
DTEND;TZID=Europe/Berlin:20260124T235900
DTSTAMP:20260107T142513Z
URL:https://www.lilabi.net/events/schublade-punk-show-4/
SUMMARY:Schublade Punk Show
DESCRIPTION:Letzter Tag im Jahr und das erste Highlight 2026 folgt schon am
  24.01.2026. Da spielen Gedraengel aus Kölle und OiStress aus Bielefeld a
 nd the one and only Geheimratszecken\, die zu 3/5 aus der Schublade-Crew b
 estehen\, releasen Ihre neue Platte "Mein bester Trick".\n\nKommt zahlreic
 h. Das wird gut!
ATTACH;FMTTYPE=image/jpeg:https://www.lilabi.net/wp-content/uploads/2026/0
 1/2026-01-24_Release_GRZ_skaliert.jpg
CATEGORIES:Konzert
LOCATION:AJZ Bielefeld\, Heeper Str. 132\, 33607 Bielefeld\, Deutschland
X-APPLE-STRUCTURED-LOCATION;VALUE=URI;X-ADDRESS=Heeper Str. 132\, 33607 Bie
 lefeld\, Deutschland;X-APPLE-RADIUS=100;X-TITLE=AJZ Bielefeld:geo:0,0
END:VEVENT
BEGIN:VTIMEZONE
TZID:Europe/Berlin
X-LIC-LOCATION:Europe/Berlin
BEGIN:STANDARD
DTSTART:20251026T020000
TZOFFSETFROM:+0200
TZOFFSETTO:+0100
TZNAME:CET
END:STANDARD
END:VTIMEZONE
END:VCALENDAR