BEGIN:VCALENDAR
VERSION:2.0
PRODID:-//wp-events-plugin.com//7.2.3.1//EN
TZID:Europe/Berlin
X-WR-TIMEZONE:Europe/Berlin
BEGIN:VEVENT
UID:3717@lilabi.net
DTSTART;TZID=Europe/Berlin:20220527T193000
DTEND;TZID=Europe/Berlin:20220527T234500
DTSTAMP:20220517T125602Z
URL:https://www.lilabi.net/events/schublade-punk-praesentiert-wisecraecker
 -h-irritator-bi/
SUMMARY:Schublade Punk präsentiert: WISECRÄCKER (H) + IRRITATOR (BI)
DESCRIPTION:Schublade Punk präsentiert: \n\nWISECRÄCKER (H) + IRRITATOR (
 BI)\n\nNach langer langer Pause ist es uns endlich wieder möglich Indoor-
 Konzerte im AJZ zu veranstalten. Wir freuen uns!!!\n\nZum Auftakt gibts Sk
 a-Punk von WISECRÄCKER aus Hannover. Für Support in Sachen Punk sorgen I
 RRITATOR aus Bielefeld.\n\nEinlass: 19:30 Uhr\nBeginn: 20:30 Uhr\n\nBitte 
 macht einen Schnell-/Selbsttest bevor ihr ins Haus kommt.\n\nEure Schublad
 e Punk
ATTACH;FMTTYPE=image/jpeg:https://www.lilabi.net/wp-content/uploads/2022/0
 5/Konzert_2022-05-27_skaliert.jpg
CATEGORIES:Konzert
LOCATION:AJZ Bielefeld\, Heeper Str. 132\, 33607 Bielefeld\, Deutschland
X-APPLE-STRUCTURED-LOCATION;VALUE=URI;X-ADDRESS=Heeper Str. 132\, 33607 Bie
 lefeld\, Deutschland;X-APPLE-RADIUS=100;X-TITLE=AJZ Bielefeld:geo:0,0
END:VEVENT
BEGIN:VTIMEZONE
TZID:Europe/Berlin
X-LIC-LOCATION:Europe/Berlin
BEGIN:DAYLIGHT
DTSTART:20220327T030000
TZOFFSETFROM:+0100
TZOFFSETTO:+0200
TZNAME:CEST
END:DAYLIGHT
END:VTIMEZONE
END:VCALENDAR