BEGIN:VCALENDAR
VERSION:2.0
PRODID:-//wp-events-plugin.com//7.2.3.1//EN
TZID:Europe/Berlin
X-WR-TIMEZONE:Europe/Berlin
BEGIN:VEVENT
UID:4894@lilabi.net
DTSTART;TZID=Europe/Berlin:20240210T200000
DTEND;TZID=Europe/Berlin:20240210T234500
DTSTAMP:20240101T192317Z
URL:https://www.lilabi.net/events/schublade-punk-konzert-9/
SUMMARY:Schublade Punk Konzert
DESCRIPTION:Es ist so langweilig. Immer nur die selbe alte Musik. Bei manch
 en Sachen können wir sogar schon mitsingen. Doch halt! Die Langeweile hat
  ein Ende! Dead Years bringen ein neues Album heraus und feiern dessen Ver
 öffentlichung im AJZ! Wir freuen uns sehr. Nicht nur auf Dead Years\, son
 dern auch auf Stranded und auf Space Maus. Kommt rum\, macht vorher gerne 
 mal einen Corona Test und habt uns und den Bands einen tollen Abend!\nDead
  Years (Bielefeld)\nhttps://deadyearsdeadyears.bandcamp.com/album/dead-yea
 rs-2\nSpace Maus (Leipzig)\nhttps://spacemaus.bandcamp.com/album/demo\nStr
 anded (Köln)\nhttps://wearestranded.bandcamp.com/
ATTACH;FMTTYPE=image/jpeg:https://www.lilabi.net/wp-content/uploads/2023/1
 2/dead_lila.jpg
CATEGORIES:Konzert
LOCATION:AJZ Bielefeld\, Heeper Str. 132\, 33607 Bielefeld\, Deutschland
X-APPLE-STRUCTURED-LOCATION;VALUE=URI;X-ADDRESS=Heeper Str. 132\, 33607 Bie
 lefeld\, Deutschland;X-APPLE-RADIUS=100;X-TITLE=AJZ Bielefeld:geo:0,0
END:VEVENT
BEGIN:VTIMEZONE
TZID:Europe/Berlin
X-LIC-LOCATION:Europe/Berlin
BEGIN:STANDARD
DTSTART:20231029T020000
TZOFFSETFROM:+0200
TZOFFSETTO:+0100
TZNAME:CET
END:STANDARD
END:VTIMEZONE
END:VCALENDAR