BEGIN:VCALENDAR
VERSION:2.0
PRODID:-//wp-events-plugin.com//7.2.3.1//EN
TZID:Europe/Berlin
X-WR-TIMEZONE:Europe/Berlin
BEGIN:VEVENT
UID:4463@lilabi.net
DTSTART;TZID=Europe/Berlin:20221216T193000
DTEND;TZID=Europe/Berlin:20221216T234500
DTSTAMP:20221116T161847Z
URL:https://www.lilabi.net/events/schublade-punk-konzert-5/
SUMMARY:Schublade Punk Konzert
DESCRIPTION:Liebe Leute\,\nso schön es in der Plätzchenbäckerei auch sei
 n mag\, heute muss die Plätzchenproduktion pausieren\, denn im AJZ ist ei
 n Konzert\, und das wollt ihr nicht verpassen! Drei Bands\, zwei neue Albe
 n = Punk Punk Punk.\nMacht vor dem Besuch des Konzerts bitte einen Selbstt
 est!\n\nTodeskommando Atomsturm\nhttp://todeskommando.de/\n\nScheissediebu
 llen\nhttps://www.scheissediebullen.de/\n\nTheilen\nhttps://theilen.bandca
 mp.com/releases\n\n&nbsp\;
ATTACH;FMTTYPE=image/jpeg:https://www.lilabi.net/wp-content/uploads/2022/1
 1/todeskommando_lila.jpg
CATEGORIES:Konzert
LOCATION:AJZ Bielefeld\, Heeper Str. 132\, 33607 Bielefeld\, Deutschland
X-APPLE-STRUCTURED-LOCATION;VALUE=URI;X-ADDRESS=Heeper Str. 132\, 33607 Bie
 lefeld\, Deutschland;X-APPLE-RADIUS=100;X-TITLE=AJZ Bielefeld:geo:0,0
END:VEVENT
BEGIN:VTIMEZONE
TZID:Europe/Berlin
X-LIC-LOCATION:Europe/Berlin
BEGIN:STANDARD
DTSTART:20221030T020000
TZOFFSETFROM:+0200
TZOFFSETTO:+0100
TZNAME:CET
END:STANDARD
END:VTIMEZONE
END:VCALENDAR