BEGIN:VCALENDAR
VERSION:2.0
PRODID:-//wp-events-plugin.com//7.2.3.1//EN
TZID:Europe/Berlin
X-WR-TIMEZONE:Europe/Berlin
BEGIN:VEVENT
UID:4445@lilabi.net
DTSTART;TZID=Europe/Berlin:20221110T200000
DTEND;TZID=Europe/Berlin:20221110T234500
DTSTAMP:20221019T120120Z
URL:https://www.lilabi.net/events/schublade-punk-konzert-4/
SUMMARY:Schublade Punk Konzert
DESCRIPTION:Na? Bock auf einen frühen Start ins Wochenende? Dann haben wir
  da was für euch! Zwei Bands am Donnerstag abend: Die Twin Pigs kommen ex
 tra aus Schweden mit ihrem neuen Album im Gepäck und vorher spielen Lisa 
 Bouvier - und das in eurem Lieblings-AJZ!\n\nTwin Pigs\nhttps://twinpigs.b
 andcamp.com/\n\nLisa Bouvier\nhtps://lisabouvierpunx.bandcamp.com/releases
ATTACH;FMTTYPE=image/jpeg:https://www.lilabi.net/wp-content/uploads/2022/1
 0/twin_lilabi.jpg
LOCATION:AJZ Bielefeld\, Heeper Str. 132\, 33607 Bielefeld\, Deutschland
X-APPLE-STRUCTURED-LOCATION;VALUE=URI;X-ADDRESS=Heeper Str. 132\, 33607 Bie
 lefeld\, Deutschland;X-APPLE-RADIUS=100;X-TITLE=AJZ Bielefeld:geo:0,0
END:VEVENT
BEGIN:VTIMEZONE
TZID:Europe/Berlin
X-LIC-LOCATION:Europe/Berlin
BEGIN:STANDARD
DTSTART:20221030T020000
TZOFFSETFROM:+0200
TZOFFSETTO:+0100
TZNAME:CET
END:STANDARD
END:VTIMEZONE
END:VCALENDAR