BEGIN:VCALENDAR
VERSION:2.0
PRODID:-//wp-events-plugin.com//7.2.3.1//EN
TZID:Europe/Berlin
X-WR-TIMEZONE:Europe/Berlin
BEGIN:VEVENT
UID:3666@lilabi.net
DTSTART;TZID=Europe/Berlin:20220106T160000
DTEND;TZID=Europe/Berlin:20220106T160000
DTSTAMP:20220103T172657Z
URL:https://www.lilabi.net/events/scheinheilig-demonstration-und-kundgebun
 g-fuer-bessere-arbeitsbedingungen-im-krankenhaus/
SUMMARY:"Scheinheilig" - Demonstration und Kundgebung für bessere Arbeitsb
 edingungen im Krankenhaus
DESCRIPTION:"Scheinheilig" - Demonstration und Kundgebung für bessere Arbe
 itsbedingungen im Krankenhaus\n\nVeranstaltet vom Bielefelder Bündnis fü
 r mehr Personal im Krankenhaus\n\nhttp://mehr-personal-im-krankenhaus.de/\
 n\nhttps://www.facebook.com/BielefelderBuendnis/?ref=py_c
ATTACH;FMTTYPE=image/jpeg:https://www.lilabi.net/wp-content/uploads/2022/0
 1/scheinheilig.jpg
CATEGORIES:Demo
LOCATION:Franziskus-Krankenhaus\, Kiskerstraße 26\, Bielefeld\, 33615\, De
 utschland
X-APPLE-STRUCTURED-LOCATION;VALUE=URI;X-ADDRESS=Kiskerstraße 26\, Bielefel
 d\, 33615\, Deutschland;X-APPLE-RADIUS=100;X-TITLE=Franziskus-Krankenhaus:
 geo:0,0
END:VEVENT
BEGIN:VTIMEZONE
TZID:Europe/Berlin
X-LIC-LOCATION:Europe/Berlin
BEGIN:STANDARD
DTSTART:20211031T020000
TZOFFSETFROM:+0200
TZOFFSETTO:+0100
TZNAME:CET
END:STANDARD
END:VTIMEZONE
END:VCALENDAR