BEGIN:VCALENDAR
VERSION:2.0
PRODID:-//wp-events-plugin.com//7.2.3.1//EN
TZID:Europe/Berlin
X-WR-TIMEZONE:Europe/Berlin
BEGIN:VEVENT
UID:5943@lilabi.net
DTSTART;TZID=Europe/Berlin:20250505T200000
DTEND;TZID=Europe/Berlin:20250505T220000
DTSTAMP:20250505T123017Z
URL:https://www.lilabi.net/events/scham-oder-schlussstrich-kritik-der-deut
 schen-geschichtspolitik-in-bezug-auf-den-nationalsozialismus-ein-vortrag-m
 it-den-gruppen-gegen-kapital-und-nation-im-rahmes-des-linken-semesterstart
 es/
SUMMARY:Scham oder Schlussstrich: Kritik der deutschen Geschichtspolitik in
  Bezug auf den Nationalsozialismus. Ein Vortrag mit den Gruppen gegen Kapi
 tal und Nation im Rahmes des Linken Semesterstartes
DESCRIPTION:[English version below]\n[Text in einfacher Sprache unten]\nDeu
 tschlands Geschichtspolitik in Bezug auf den Nationalsozialismus ist beson
 ders. Während in vielen Nationen versucht wird\, ein positives Bild der 
 „eigenen“ Nationalgeschichte zu zeichnen\, dominiert in der BRD mittle
 rweile das aktive Erinnern und die Scham über die Taten Deutscher. Auf di
 ese Geschichtspolitik sind viele Deutsche stolz.\nWarum diese Form der Eri
 nnerung ebenso wie die rechtsradikale Variante – die einen Schlussstrich
  fordert – kritisiert werden sollte\, möchten wir diskutieren. Hierfür
  wird nachgezeichnet\, wie und warum sich die Geschichtspolitik in der BRD
  nach 1945 gewandelt hat. Im Ergebnis wird aufgezeigt\, dass sowohl der Zw
 eck als auch der Inhalt der Geschichtspolitik zu kritisieren sind und kein
 e vernünftige Kritik am Nationalsozialismus beinhalten.\n_____\nGermany's
  historical policy with regard to National Socialism is unique. While many
  nations try to paint a positive picture of their "own" national history\,
  the BRD is now dominated by active remembrance and shame about the crimes
  committed by Germans. Many Germans are proud of this history policy.\n\nW
 e want to discuss why this form of remembrance should be criticized in the
  same way as the radical right-wing version - which calls for a clean brea
 k. For this purpose\, we will trace how and why the politics of history ch
 anged in the BRD after 1945. In the end\, it will be shown that both the p
 urpose and the content of the politics of history are to be criticized and
  do not contain any reasonable criticism of National-socialism.\n_____\nDe
 utschlands Umgang mit der Zeit des Nationalismus ist besonders. In vielen 
 Ländern zeigen Menschen ihre Geschichte von der guten Seite. Aber in Deut
 schland erinnern sich viele Menschen bewusst an die schlimmen Taten. Sie s
 chämen sich dafür. Viele sind stolz auf diese Art des Erinnerns.\nWir wo
 llen zeigen\, warum auch diese Art der Erinnerung ein Problem ist. Genau w
 ie das Erinnern von rechtsradikalen Menschen. Diese wollen das Gedenken an
  die schlimme Vergangenheit Deutschlands beenden. Wir besprechen: wie sich
  das Erinnern in Deutschland nach 1945 verändert hat. Am Ende sagen wir: 
 Das aktuelle Ziel und der Inhalt vom Erinnern sind schlecht. Sie sagen nic
 hts Richtiges gegen den Nationalsozialismus.
CATEGORIES:Semesterstart
LOCATION:Extra Blues Bar\, Kreuzstraße 6\, 33602 Bielefeld\, Deutschland
X-APPLE-STRUCTURED-LOCATION;VALUE=URI;X-ADDRESS=Kreuzstraße 6\, 33602 Biel
 efeld\, Deutschland;X-APPLE-RADIUS=100;X-TITLE=Extra Blues Bar:geo:0,0
END:VEVENT
BEGIN:VTIMEZONE
TZID:Europe/Berlin
X-LIC-LOCATION:Europe/Berlin
BEGIN:DAYLIGHT
DTSTART:20250330T030000
TZOFFSETFROM:+0100
TZOFFSETTO:+0200
TZNAME:CEST
END:DAYLIGHT
END:VTIMEZONE
END:VCALENDAR