BEGIN:VCALENDAR
VERSION:2.0
PRODID:-//wp-events-plugin.com//7.2.3.1//EN
TZID:Europe/Berlin
X-WR-TIMEZONE:Europe/Berlin
BEGIN:VEVENT
UID:4307@lilabi.net
DTSTART;TZID=Europe/Berlin:20220711T200000
DTEND;TZID=Europe/Berlin:20220711T220000
DTSTAMP:20220707T163904Z
URL:https://www.lilabi.net/events/rwe-co-enteignen-infoveranstaltung-in-bi
 elefeld/
SUMMARY:RWE &amp\; Co Enteignen Infoveranstaltung in Bielefeld
DESCRIPTION:RWE &amp\; Co Enteignen\n\nWarum eigentlich Enteignen und Verge
 sellschaftung?\nWas möchte die Kampagne RWE &amp\; Co enteignen?\nUnd was
  genau geht eigentlich bei der "Enteignen statt Krise" Großdemo am 27.08.
  in Köln?\n\nAll das erfahrt ihr bei der Veranstaltung am 11.07 in der B
 ürgerwache\n\n****\n\nEs ist offensichtlich: die Energieproduktion und -V
 ersorgung\, so wie sie jetzt organisiert ist\, funktioniert nicht. Sie ist
  weder ökologisch noch sozial gerecht. Sie beruht auf der Ausbeutung von 
 Mensch und Natur. Wir merken das ganz aktuell: die Strompreise steigen - o
 bwohl auch bisher schon mehrere hunderttausend Menschen jährlich den Stro
 m abgestellt bekommen\, weil sie ihn sich nicht leisten können. Kohlekraf
 twerke sollen doch noch nicht endgültig runtergefahren werden - obwohl di
 e Folgen des Klimawandels bereits überall\, besonders im globalen Süden\
 , verheerende Folgen haben.\n\nUm das zu ändern\, muss die Energieprodukt
 ion in die Hände der gesamten Gesellschaft. Nur wenn wir gemeinsam demokr
 atisch entscheiden\, können alle Bedürfnisse berücksichtigt werden. Wie
  das aussehen kann und wie wir da hingelangen\, erfahrt ihr bei unserer In
 foveranstaltung.\n\nAußerdem gibt's alles wichtige zur Demo "Enteignen st
 att Krise" von FFF\, EG und RWE &amp\; Co enteignen und ihr bekommt Infos\
 , wie ihr die Demo supporten könnt.\n\nKommt vorbei\, bringt eure Friends
  und eure Fragen mit. Wir freuen uns auf euch!
ATTACH;FMTTYPE=image/jpeg:https://www.lilabi.net/wp-content/uploads/2022/0
 6/photo_2022-06-29_20-34-58_1000.jpg
CATEGORIES:Infoveranstaltung
LOCATION:Extra Blues Bar\, Kreuzstraße 6\, 33602 Bielefeld\, Deutschland
X-APPLE-STRUCTURED-LOCATION;VALUE=URI;X-ADDRESS=Kreuzstraße 6\, 33602 Biel
 efeld\, Deutschland;X-APPLE-RADIUS=100;X-TITLE=Extra Blues Bar:geo:0,0
END:VEVENT
BEGIN:VTIMEZONE
TZID:Europe/Berlin
X-LIC-LOCATION:Europe/Berlin
BEGIN:DAYLIGHT
DTSTART:20220327T030000
TZOFFSETFROM:+0100
TZOFFSETTO:+0200
TZNAME:CEST
END:DAYLIGHT
END:VTIMEZONE
END:VCALENDAR