BEGIN:VCALENDAR
VERSION:2.0
PRODID:-//wp-events-plugin.com//7.2.3.1//EN
TZID:Europe/Berlin
X-WR-TIMEZONE:Europe/Berlin
BEGIN:VEVENT
UID:4462@lilabi.net
DTSTART;TZID=Europe/Berlin:20221128T200000
DTEND;TZID=Europe/Berlin:20221128T223000
DTSTAMP:20221115T142935Z
URL:https://www.lilabi.net/events/roter-tresen-rechtsfindung/
SUMMARY:Roter Tresen "Rechtsfindung"
DESCRIPTION:Wir freuen uns\, diesen Monat einen ganz besonderen Roten Trese
 n anzukündigen: Wir zeigen den Film „Rechtsfindung“ von Johannes Hör
  und haben im Anschluss die Chance mit dem Regisseur persönlich über den
  Film zu sprechen. Die Verfilmung basiert auf dem Bertolt Brecht Stück 
 „Furcht und Elend des III. Reichs“ und wird zunächst einmalig in Biel
 efeld aufgeführt.\n\nEin zerschundener Kriegsveteran wird beim Arbeiten g
 rundlos verprügelt. Ein Augsburger Richter bequemt sich kurz vor dem Proz
 ess dazu den Fall anzusehen. Zuversichtlich holt er sich Rat und geht die 
 Sache durch: Der Tathergang scheint ja eigentlich klar zu sein.\n\nAber: d
 as Ganze wird zur Chefsache\, Uniformierte sagen ihm\, wer es nicht war 
 – oder gewesen sein darf? Mit jedem Rat verschlimmert sich die Situation
 .\n\nDer Höhepunkt ist der Krieg\, der ihn auf seinem Schreibtisch endlic
 h heimsucht. Plötzlich ist er da\, mit all den Opfern\, die er gnadenlos 
 fordert. Dem Richter dämmert: Sein eigenes Leben steht auf dem Spiel und 
 seine Familie haben sie ihm vermutlich schon genommen.\n\nWenn ihr Lust au
 f eine Brechtverfilmung mit anschließender Fragerunde mit dem Regisseur h
 abt\, kommt vorbei!\n\nEintritt ist frei\, Spenden vor Ort möglich
CATEGORIES:Diskussion,Film,Kneipe
LOCATION:Potemkin\, Heeper Str. 28\, Bielefeld\, Deutschland
X-APPLE-STRUCTURED-LOCATION;VALUE=URI;X-ADDRESS=Heeper Str. 28\, Bielefeld\
 , Deutschland;X-APPLE-RADIUS=100;X-TITLE=Potemkin:geo:0,0
END:VEVENT
BEGIN:VTIMEZONE
TZID:Europe/Berlin
X-LIC-LOCATION:Europe/Berlin
BEGIN:STANDARD
DTSTART:20221030T020000
TZOFFSETFROM:+0200
TZOFFSETTO:+0100
TZNAME:CET
END:STANDARD
END:VTIMEZONE
END:VCALENDAR