BEGIN:VCALENDAR
VERSION:2.0
PRODID:-//wp-events-plugin.com//7.2.3.1//EN
TZID:Europe/Berlin
X-WR-TIMEZONE:Europe/Berlin
BEGIN:VEVENT
UID:4778@lilabi.net
DTSTART;TZID=Europe/Berlin:20230626T190000
DTEND;TZID=Europe/Berlin:20230626T210000
DTSTAMP:20230623T110628Z
URL:https://www.lilabi.net/events/roter-tresen-kuba-kneipenquiz/
SUMMARY:Roter Tresen: Kuba Kneipenquiz
DESCRIPTION:Viva Cuba socialista! Bei unserem nächsten Roten Tresen könnt
  ihr im Kuba-Kneipenquiz euer Wissen unter Beweis stellen und Neues über 
 den sozialistischen Inselstaat erfahren. Außerdem könnt ihr die Personen
  kennenlernen\, die im Rahmen unserer Jugendbrigaden nach Kuba fliegen. Fr
 agen\, die im Laufe des Abends aufkommen\, können direkt an die Brigadent
 eilnehmer weitergegeben werden\, die diese auf Kuba recherchieren werden. 
 Wir freuen uns auf euch!
CATEGORIES:Diskussion,Kneipe,Quiz
LOCATION:Potemkin\, Heeper Str. 28\, Bielefeld\, Deutschland
X-APPLE-STRUCTURED-LOCATION;VALUE=URI;X-ADDRESS=Heeper Str. 28\, Bielefeld\
 , Deutschland;X-APPLE-RADIUS=100;X-TITLE=Potemkin:geo:0,0
END:VEVENT
BEGIN:VTIMEZONE
TZID:Europe/Berlin
X-LIC-LOCATION:Europe/Berlin
BEGIN:DAYLIGHT
DTSTART:20230326T030000
TZOFFSETFROM:+0100
TZOFFSETTO:+0200
TZNAME:CEST
END:DAYLIGHT
END:VTIMEZONE
END:VCALENDAR