BEGIN:VCALENDAR
VERSION:2.0
PRODID:-//wp-events-plugin.com//7.2.3.1//EN
TZID:Europe/Berlin
X-WR-TIMEZONE:Europe/Berlin
BEGIN:VEVENT
UID:3569@lilabi.net
DTSTART;TZID=Europe/Berlin:20210927T190000
DTEND;TZID=Europe/Berlin:20210927T220000
DTSTAMP:20210924T093007Z
URL:https://www.lilabi.net/events/roter-tresen-kneipenquizz/
SUMMARY:Roter Tresen: Kneipenquizz
DESCRIPTION:Ihr seid fit in Popkultur\, Politik und seid OWL-Experten? Dann
  kommt zu unserem SDAJ Kneipenquiz!\nWie an jedem letzten Montag veranstal
 ten wir im Potemkin unseren Roten Tresen. Da die letzten Male wieder etwas
  ernster waren\, wollen wir dieses Mal ein Quiz veranstalten\, um die Sach
 e etwas aufzulockern. Da wir Fragen aus verschiedenen Kategorien gesammelt
  haben\, ist auch sicherlich für jeden etwas dabei!\nAlso kommt am 27.09 
 um 19:00 Uhr ins Potemkin und ratet mit!\nWie freuen uns auf euch!
CATEGORIES:Kneipe
LOCATION:\, \, 
X-APPLE-STRUCTURED-LOCATION;VALUE=URI;X-ADDRESS=\, ;X-APPLE-RADIUS=100;X-TI
 TLE=:geo:0,0
END:VEVENT
BEGIN:VTIMEZONE
TZID:Europe/Berlin
X-LIC-LOCATION:Europe/Berlin
BEGIN:DAYLIGHT
DTSTART:20210328T030000
TZOFFSETFROM:+0100
TZOFFSETTO:+0200
TZNAME:CEST
END:DAYLIGHT
END:VTIMEZONE
END:VCALENDAR