BEGIN:VCALENDAR
VERSION:2.0
PRODID:-//wp-events-plugin.com//7.2.3.1//EN
TZID:Europe/Berlin
X-WR-TIMEZONE:Europe/Berlin
BEGIN:VEVENT
UID:4724@lilabi.net
DTSTART;TZID=Europe/Berlin:20230424T190000
DTEND;TZID=Europe/Berlin:20230424T210000
DTSTAMP:20230419T130928Z
URL:https://www.lilabi.net/events/roter-tresen-kneipenquiz-zur-geschichte-
 der-arbeiterbewegung/
SUMMARY:Roter Tresen: Kneipenquiz zur Geschichte der Arbeiterbewegung
DESCRIPTION:Schlechte Löhne\, miese Arbeitsbedingungen\, zu wenig Freizeit
  - das alles und noch viel mehr trieb die arbeitende Bevölkerung immer wi
 eder auf die Straße um zu protestieren und zu streiken. Durch die weiterh
 in steigenden Preise haben diese Themen gerade jetzt eine große Bedeutung
 . Dass ein gemeinsamer Arbeitskampf notwendig ist\, um unsere Forderungen 
 hinaus zu tragen\, haben nicht zuletzt vor allem die Tarifverhandlungen de
 s öffentlichen Dienstes gezeigt. Besonders der 1. Mai\, der Kampftag der 
 Arbeiterklasse\, spielt für die Interessen der Werktätigen dabei eine wi
 chtige Rolle.\nDeswegen möchten wir uns beim nächsten Roten Tresen mit d
 er Geschichte der Arbeiterbewegung befassen.\nDu möchtest dein Wissen in 
 diesem Bereich testen?\nDann komm doch gerne am\n24.4. um 19 Uhr ins Potem
 kin\nWir freuen uns auf dich!
CATEGORIES:Kneipe,Quiz
LOCATION:Potemkin\, Heeper Str. 28\, Bielefeld\, Deutschland
X-APPLE-STRUCTURED-LOCATION;VALUE=URI;X-ADDRESS=Heeper Str. 28\, Bielefeld\
 , Deutschland;X-APPLE-RADIUS=100;X-TITLE=Potemkin:geo:0,0
END:VEVENT
BEGIN:VTIMEZONE
TZID:Europe/Berlin
X-LIC-LOCATION:Europe/Berlin
BEGIN:DAYLIGHT
DTSTART:20230326T030000
TZOFFSETFROM:+0100
TZOFFSETTO:+0200
TZNAME:CEST
END:DAYLIGHT
END:VTIMEZONE
END:VCALENDAR