BEGIN:VCALENDAR
VERSION:2.0
PRODID:-//wp-events-plugin.com//7.2.3.1//EN
TZID:Europe/Berlin
X-WR-TIMEZONE:Europe/Berlin
BEGIN:VEVENT
UID:4681@lilabi.net
DTSTART;TZID=Europe/Berlin:20230227T190000
DTEND;TZID=Europe/Berlin:20230227T210000
DTSTAMP:20230220T165227Z
URL:https://www.lilabi.net/events/roter-tresen-infoabend-zum-tarifvertrag-
 im-oeffentlichen-dienst/
SUMMARY:Roter Tresen: Infoabend zum Tarifvertrag im öffentlichen Dienst
DESCRIPTION:Wir stecken mitten in den Tarifverhandlungen zum öffentlichen 
 Dienst in Bund und Kommunen. Betroffen sind 2\,5 Millionen Beschäftigte\,
  die vor allem in der Daseinsvorsorge arbeiten – zum Beispiel in kommuna
 len Kindergärten\, Krankenhäusern\, Flughäfen oder Verkehrsbetrieben. W
 ir alle wollen eine gute Gesundheitsversorgung\, Verkehrsanbindung\, Müll
 entsorgung oder Verwaltung. Trotzdem gingen die Beschäftigten in den letz
 ten Tarifrunden so gut wie leer aus\, nicht mal ein Inflationsausgleich wa
 r drin. Neben den miserablen Löhnen herrschen in vielen Bereichen auch un
 menschliche Arbeitsbedingungen. So lässt es sich nicht leben\, besonders 
 während der aktuellen Preissteigerungen. Es muss sich dringend was änder
 n und das geht nur im gemeinsamen Kampf!\nIhr wollt mehr über die Tarifru
 nde im öffentlichen Dienst erfahren? Bei unserem Roten Tresen werden wir 
 uns zusammen mit dem Thema beschäftigen!
CATEGORIES:Infoveranstaltung,Kneipe,Podiumsdiskussion
LOCATION:Potemkin\, Heeper Str. 28\, Bielefeld\, Deutschland
X-APPLE-STRUCTURED-LOCATION;VALUE=URI;X-ADDRESS=Heeper Str. 28\, Bielefeld\
 , Deutschland;X-APPLE-RADIUS=100;X-TITLE=Potemkin:geo:0,0
END:VEVENT
BEGIN:VTIMEZONE
TZID:Europe/Berlin
X-LIC-LOCATION:Europe/Berlin
BEGIN:STANDARD
DTSTART:20221030T020000
TZOFFSETFROM:+0200
TZOFFSETTO:+0100
TZNAME:CET
END:STANDARD
END:VTIMEZONE
END:VCALENDAR