BEGIN:VCALENDAR
VERSION:2.0
PRODID:-//wp-events-plugin.com//7.2.3.1//EN
TZID:Europe/Berlin
X-WR-TIMEZONE:Europe/Berlin
BEGIN:VEVENT
UID:3576@lilabi.net
DTSTART;TZID=Europe/Berlin:20211025T190000
DTEND;TZID=Europe/Berlin:20211025T220000
DTSTAMP:20211021T120252Z
URL:https://www.lilabi.net/events/roter-tresen-film-panzerkreuzer-potemkin
 /
SUMMARY:Roter Tresen Film: Panzerkreuzer Potemkin
DESCRIPTION:+++Roter Tresen Jubiläum+++\n4 Jahre und 25 Montagabende spät
 er wollen wir mit euch zusammen das Jubiläum und die Erfolgsgeschichte de
 s Roten Tresen feiern. Und was würde sich dafür besser eigenen\, als ein
  gemeinsamer Filmabend? Daher wollen wir den Film schauen mit dem alles be
 gann. „Panzerkreuzer Potemkin“ von Sergej Eisenstein aus dem Jahr 1925
 . Der Film handelt von der gescheiterten Russischen Revolution 1905 und wu
 rde zum 20. Jubiläum dieser uraufgeführt. Die Mannschaft des Kriegsschif
 fes Potemkin meutert gegen ihre zaristischen Offiziere und muss dann mitan
 sehen\, wie brutal die Monarchie gegen die Revolution vorgeht.\nDie Themen
  sind auch heute\, fast 100 Jahren später noch aktuell. Die Notwendigkeit
  von Antimilitarismus und Solidarität besteht heute genau so wie damals. 
 Wir laden euch alle herzlich ein\, in der nach dem Film benannten Kneipe P
 otemkin einen netten Abend bei ein paar kalten Getränken und guten Gespr
 ächen im Anschluss an den Film zu verbringen.\nAlso kommt vorbei: Montag 
 den 25.10. um 19 Uhr im Potemkin. Wir freuen uns!
CATEGORIES:Film
LOCATION:\, \, 
X-APPLE-STRUCTURED-LOCATION;VALUE=URI;X-ADDRESS=\, ;X-APPLE-RADIUS=100;X-TI
 TLE=:geo:0,0
END:VEVENT
BEGIN:VTIMEZONE
TZID:Europe/Berlin
X-LIC-LOCATION:Europe/Berlin
BEGIN:DAYLIGHT
DTSTART:20210328T030000
TZOFFSETFROM:+0100
TZOFFSETTO:+0200
TZNAME:CEST
END:DAYLIGHT
END:VTIMEZONE
END:VCALENDAR