BEGIN:VCALENDAR
VERSION:2.0
PRODID:-//wp-events-plugin.com//7.2.3.1//EN
TZID:Europe/Berlin
X-WR-TIMEZONE:Europe/Berlin
BEGIN:VEVENT
UID:4921@lilabi.net
DTSTART;TZID=Europe/Berlin:20240129T190000
DTEND;TZID=Europe/Berlin:20240129T210000
DTSTAMP:20240125T123928Z
URL:https://www.lilabi.net/events/roter-tresen-der-nahostkonflikt-in-den-d
 eutschen-medien/
SUMMARY:Roter Tresen: Der Nahostkonflikt in den deutschen Medien
DESCRIPTION:Während seit dem 8. Oktober tausende PalästinenserInnen im Ga
 zastreifen durch die grausamen israelischen Angriffe sterben\, schlägt si
 ch die mediale Berichterstattung klar auf die Seite des Unterdrückers. De
 r vom israelischen Staat durchgeführte Genozid wird als reine Selbstverte
 idigung inszeniert und jegliche Solidarität mit dem palästinensischen Vo
 lk als antisemitisch abgestempelt. Doch warum ist das so? Mit Sam von der 
 sozialistischen Wochenzeitung "Unsere Zeit" sprechen wir über die Rolle d
 es deutschen Imperialismus im Nahost-Konflikt und wie Formierung durch Med
 ien funktioniert. Außerdem wollen wir darüber reden\, was sich gegen die
 se einseitige Berichterstattung tun lässt. Anschließend ist natürlich n
 och Zeit für Fragen und Diskussion. Kommt am 29.01. um 19 Uhr ins Potemki
 n und nehmt eure Freunde mit!
CATEGORIES:Diskussion,Vortrag
LOCATION:Potemkin\, Heeper Str. 28\, Bielefeld\, Deutschland
X-APPLE-STRUCTURED-LOCATION;VALUE=URI;X-ADDRESS=Heeper Str. 28\, Bielefeld\
 , Deutschland;X-APPLE-RADIUS=100;X-TITLE=Potemkin:geo:0,0
END:VEVENT
BEGIN:VTIMEZONE
TZID:Europe/Berlin
X-LIC-LOCATION:Europe/Berlin
BEGIN:STANDARD
DTSTART:20231029T020000
TZOFFSETFROM:+0200
TZOFFSETTO:+0100
TZNAME:CET
END:STANDARD
END:VTIMEZONE
END:VCALENDAR