BEGIN:VCALENDAR
VERSION:2.0
PRODID:-//wp-events-plugin.com//7.2.3.1//EN
TZID:Europe/Berlin
X-WR-TIMEZONE:Europe/Berlin
BEGIN:VEVENT
UID:5583@lilabi.net
DTSTART;TZID=Europe/Berlin:20240226T190000
DTEND;TZID=Europe/Berlin:20240226T220000
DTSTAMP:20240220T131045Z
URL:https://www.lilabi.net/events/roter-tresen-der-nahostkonflikt-in-den-d
 eutschen-medien-2/
SUMMARY:Roter Tresen: Der Nahostkonflikt in den Deutschen Medien
DESCRIPTION:Während seit dem 8. Oktober tausende PalästinenserInnen im Ga
 zastreifen durch die grausamen israelischen Angriffe sterben\, schlägt si
 ch die mediale Berichterstattung klar auf die Seite des Unterdrückers. De
 r vom israelischen Staat durchgeführte Genozid wird als reine Selbstverte
 idigung inszeniert und jegliche Solidarität mit dem palästinensischen Vo
 lk als antisemitisch abgestempelt.\n\nDoch warum ist das so?\nMit Bella Gr
 uber von der sozialistischen Wochenzeitung "Unsere Zeit" sprechen wir übe
 r die Rolle des deutschen Imperialismus im Nahost-Konflikt und wie Formier
 ung durch Medien funktioniert. Außerdem wollen wir darüber reden\, was s
 ich gegen diese einseitige Berichterstattung tun lässt. Anschließend ist
  natürlich noch Zeit für Fragen und Diskussion.\n\nKommt am 26.02 um 19 
 Uhr ins Potemkin und nehmt eure Freunde mit!
CATEGORIES:Kneipe,Vortrag
LOCATION:Potemkin\, Heeper Str. 28\, Bielefeld\, Deutschland
X-APPLE-STRUCTURED-LOCATION;VALUE=URI;X-ADDRESS=Heeper Str. 28\, Bielefeld\
 , Deutschland;X-APPLE-RADIUS=100;X-TITLE=Potemkin:geo:0,0
END:VEVENT
BEGIN:VTIMEZONE
TZID:Europe/Berlin
X-LIC-LOCATION:Europe/Berlin
BEGIN:STANDARD
DTSTART:20231029T020000
TZOFFSETFROM:+0200
TZOFFSETTO:+0100
TZNAME:CET
END:STANDARD
END:VTIMEZONE
END:VCALENDAR