BEGIN:VCALENDAR
VERSION:2.0
PRODID:-//wp-events-plugin.com//7.2.3.1//EN
TZID:Europe/Berlin
X-WR-TIMEZONE:Europe/Berlin
BEGIN:VEVENT
UID:3541@lilabi.net
DTSTART;TZID=Europe/Berlin:20210726T190000
DTEND;TZID=Europe/Berlin:20210726T220000
DTSTAMP:20210727T120825Z
URL:https://www.lilabi.net/events/roter-tresen-der-marktgerechte-patient/
SUMMARY:Roter Tresen: Der marktgerechte Patient
DESCRIPTION:Der Rote Tresen ist endlich wieder zurück! Ab sofort gibt es a
 n jedem letzten Montag im Monat wieder politische Kulturveranstaltungen in
  unserer Lieblingskneipe\, dem Potemkin.\n\nDieses System macht uns krank!
 \nSeit Monaten spitzt sich die kapitalistische Krise immer weiter zu. Die 
 Regierung versucht durch Einschränkung unserer Rechte\, wie Arbeitsplatza
 bbau\, Lohnkürzung oder Aushebelung des 8h Tags\, die Krisenkosten auf de
 m Rücken der arbeitenden und lernenden Bevölkerung abzuwälzen. Während
  Lufthansa Milliarden Euro an Unterstützungen bekommt\, müssen wir darun
 ter leiden. Dieses System macht uns krank! Und ist dann nichteinmal in der
  Lage\, dies vernünftig aufzufangen. Ob körperlich oder psychisch\, viel
 e brechen unter dem enormen Leitungsdruck zusammen. Doch dies kann dann\, 
 aufgrund der enormen Untefinanzierung\, nichteinmal richtig vom Gesundheit
 ssystem aufgefangen werden. Seit der Einführung der Fallpauschalen haben 
 sich die katastrophalen Zustände in öffentlichen Krankenhäusern noch we
 iter verschärft.\nDaher zeigen wir am Montag den 26.07 um 19:30 Uhr "der 
 marktgerechte Patient" im Potemkin und diskutieren über die aktuellen Kri
 senauswirkungen im Gesundheitssystem und überall dort\, wo wir es zu spü
 ren bekommen.\nKommt gerne vorbei. Wir freuen uns auf euch!
CATEGORIES:Film
LOCATION:Potemkin\, Heeper Str. 28\, Bielefeld\, Deutschland
X-APPLE-STRUCTURED-LOCATION;VALUE=URI;X-ADDRESS=Heeper Str. 28\, Bielefeld\
 , Deutschland;X-APPLE-RADIUS=100;X-TITLE=Potemkin:geo:0,0
END:VEVENT
BEGIN:VTIMEZONE
TZID:Europe/Berlin
X-LIC-LOCATION:Europe/Berlin
BEGIN:DAYLIGHT
DTSTART:20210328T030000
TZOFFSETFROM:+0100
TZOFFSETTO:+0200
TZNAME:CEST
END:DAYLIGHT
END:VTIMEZONE
END:VCALENDAR