BEGIN:VCALENDAR
VERSION:2.0
PRODID:-//wp-events-plugin.com//7.2.3.1//EN
TZID:Europe/Berlin
X-WR-TIMEZONE:Europe/Berlin
BEGIN:VEVENT
UID:3447@lilabi.net
DTSTART;TZID=Europe/Berlin:20200928T193000
DTEND;TZID=Europe/Berlin:20200928T220000
DTSTAMP:20200923T162310Z
URL:https://www.lilabi.net/events/roter-tresen-antikriegsfilm/
SUMMARY:Roter Tresen: Antikriegsfilm
DESCRIPTION:Passend zum Antikriegstag Anfang des Monats\, schauen wir diese
 s Mal beim Roten Tresen einen Film über einen US-Air-Force-General\, der 
 in seinen Wahnvorstellungen von der „kommunistischen Weltverschwörung
 “ eines Tages komplett durchdreht und kurzer Hand die Atombombenflotte g
 egen die Sowjetunion startet. Allerdings nimmt er das Geheimnis des Rückr
 uf-Codes mit ins Grab. Es ist eine Parodie über den Wahnsinn der Politik 
 und des Krieges\, die zum Nachdenken anstößt und einigen Humor fordert.
CATEGORIES:Film
LOCATION:\, \, 
X-APPLE-STRUCTURED-LOCATION;VALUE=URI;X-ADDRESS=\, ;X-APPLE-RADIUS=100;X-TI
 TLE=:geo:0,0
END:VEVENT
BEGIN:VTIMEZONE
TZID:Europe/Berlin
X-LIC-LOCATION:Europe/Berlin
BEGIN:DAYLIGHT
DTSTART:20200329T030000
TZOFFSETFROM:+0100
TZOFFSETTO:+0200
TZNAME:CEST
END:DAYLIGHT
END:VTIMEZONE
END:VCALENDAR